BEGIN:VCALENDAR
VERSION:2.0
PRODID:-//ChamberMaster//Event Calendar 2.0//EN
METHOD:PUBLISH
X-PUBLISHED-TTL:P3D
REFRESH-INTERVAL:P3D
CALSCALE:GREGORIAN
BEGIN:VEVENT
DTSTART:20190801T150000Z
DTEND:20190801T160000Z
X-MICROSOFT-CDO-ALLDAYEVENT:FALSE
SUMMARY:Walking Tour of the Kennebunk Historic District
DESCRIPTION:Learn the history of the elaborate and historic homes that line Kennebunk's Summer Street neighborhood. The tour is led by a Brick Store Museum tour guide\, and departs from the Brick Store Museum on Saturdays at noon and Thursdays at 11:00am throughout the summer.
X-ALT-DESC;FMTTYPE=text/html:Learn the history of the elaborate and historic homes that line Kennebunk&rsquo\;s Summer Street neighborhood. The tour is led by a Brick Store Museum tour guide\, and departs from the Brick Store Museum on Saturdays at noon and Thursdays at 11:00am throughout the summer.&nbsp\;
LOCATION:Brick Store Museum 117 Main Street Kennebunk\, ME 04043
UID:e.1923.13366
SEQUENCE:3
DTSTAMP:20260424T170050Z
URL:https://chamber.gokennebunks.com/events/details/walking-tour-of-the-kennebunk-historic-district-08-01-2019-13366
END:VEVENT

END:VCALENDAR
