BEGIN:VCALENDAR
VERSION:2.0
PRODID:-//ChamberMaster//Event Calendar 2.0//EN
METHOD:PUBLISH
X-PUBLISHED-TTL:P3D
REFRESH-INTERVAL:P3D
CALSCALE:GREGORIAN
BEGIN:VEVENT
DTSTART:20180915T120000Z
DTEND:20180915T150000Z
X-MICROSOFT-CDO-ALLDAYEVENT:FALSE
SUMMARY:Walk to Raise the Roof in Springvale
DESCRIPTION:Habitat for Humanity York County's Walk to Raise the Roof in Springvale\n\nFirst Baptist Church\, 429 Main St.\, Springvale\n\nRegistration and check in 8:30AM  for 2.5 Mile Loop following city streets\, town trails and Rails to Trails. \n\nWalk begins: 9:00AM\n\nAdult Walk Entry Fee: Pre-Registration $30 by September1 \n\nRegistration includes: walk\, t-shirt\, Groundbreaking Ceremony and pancake breakfast.\n\nRegister at www.habitatyorkcounty.org\n\nWalk T-Shirts guaranteed (adult sizes) to pre-registrants\, \n\npost-registrants while supplies last \n\nYouth 12 and Under $12.00\n\nPancake Breakfast 8:00AM to 10:30AM\n\n$8 Adult\, $5 Youth
X-ALT-DESC;FMTTYPE=text/html:<span style="font-size:12px"><strong><span style="font-family:verdana">Habitat for Humanity York County&#39\;s Walk to Raise the Roof in Springvale</span></strong></span><br />\nFirst Baptist Church\, 429 Main St.\, Springvale<br />\n<span style="font-size:12px"><strong><span style="font-family:verdana">Registration and check in 8:30AM&nbsp\; </span></strong><span style="font-family:verdana">for 2.5 Mile Loop following city streets\, town trails and Rails to Trails</span><span style="font-family:verdana">. </span><br />\n<strong><span style="font-family:verdana">Walk begins: 9:00AM</span></strong><br />\n<strong><span style="font-family:arial rounded mt bold">Adult Walk Entry Fee: Pre-Registration $30 by September1 </span></strong><br />\n<strong><span style="font-family:verdana">Registration includes: walk\, t-shirt\, Groundbreaking Ceremony and pancake breakfast.</span></strong><br />\n<strong><span style="font-family:verdana">Register at www.habitatyorkcounty.org</span></strong><br />\n<span style="font-family:verdana">Walk T-Shirts guaranteed (adult sizes) to pre-registrants\, </span><br />\n<span style="font-family:verdana">post-registrants while supplies last </span><br />\n<strong><span style="font-family:verdana">Youth 12 and Under $12.00</span></strong><br />\n<strong><span style="font-family:verdana">Pancake Breakfast </span></strong><strong><span style="font-family:verdana">8:00AM to 10:30AM</span></strong><br />\n<strong><span style="font-family:verdana">$8 Adult\, $5 Youth</span></strong><br />\n&nbsp\;</span><br />\n&nbsp\;
LOCATION:First Baptist Church\, 429 Main St.\, Springvale
UID:e.1923.9937
SEQUENCE:3
DTSTAMP:20260425T104030Z
URL:https://chamber.gokennebunks.com/events/details/walk-to-raise-the-roof-in-springvale-9937
END:VEVENT

END:VCALENDAR
