BEGIN:VCALENDAR
VERSION:2.0
PRODID:-//ChamberMaster//Event Calendar 2.0//EN
METHOD:PUBLISH
X-PUBLISHED-TTL:P3D
REFRESH-INTERVAL:P3D
CALSCALE:GREGORIAN
BEGIN:VEVENT
DTSTART:20190818T210000Z
DTEND:20190818T223000Z
X-MICROSOFT-CDO-ALLDAYEVENT:FALSE
SUMMARY:Virtuoso Baroque Spectacular!
DESCRIPTION:St. Ann's is fortunate to welcome some of the most stunningly talented musicians in the world today. Join us for a concert of virtuoso vocal and instrumental music of the Baroque period that will delight\, amaze and move you! The gates to the property will open at 4 PM and the doors to the Stone Chapel will open at 4:15 PM. The concert will begin at 5 PM and run for 70 minutes without intermission. Proceeds will be used for the preservation of St. Ann's stone chapel (which celebrates its 127th year of continuous use this year).
X-ALT-DESC;FMTTYPE=text/html:St. Ann&rsquo\;s is fortunate to welcome some of the most stunningly talented musicians in the world today. Join us for a concert of virtuoso vocal and instrumental music of the Baroque period that will delight\, amaze and move you! The gates to the property will open at 4 PM and the doors to the Stone Chapel will open at 4:15 PM. The concert will begin at 5 PM and run for 70 minutes without intermission. Proceeds will be used for the preservation of St. Ann&rsquo\;s stone chapel (which celebrates its 127th year of continuous use this year).
LOCATION:St. Ann's Stone Chapel\, 167 Ocean Avenue\, Kennebunkport\, Maine
UID:e.1923.13421
SEQUENCE:3
DTSTAMP:20260424T165553Z
URL:https://chamber.gokennebunks.com/events/details/virtuoso-baroque-spectacular-13421
END:VEVENT

END:VCALENDAR
