BEGIN:VCALENDAR
VERSION:2.0
PRODID:-//ChamberMaster//Event Calendar 2.0//EN
METHOD:PUBLISH
X-PUBLISHED-TTL:P3D
REFRESH-INTERVAL:P3D
CALSCALE:GREGORIAN
BEGIN:VEVENT
DTSTART:20180526T170000Z
DTEND:20180526T200000Z
X-MICROSOFT-CDO-ALLDAYEVENT:FALSE
SUMMARY:Vintage Movies at the Museum: "Shoulder Arms"
DESCRIPTION:Watch star Charlie Chaplin navigate the battle front during World War I in one of Chaplin's most classic silent films.\n\nJoin us between 1 and 4 PM on Saturday\, May 26th at the Brick Store Museum. We are located at 117 Main Street\, Kennebunk.\n\nAdmission is free! There will be snacks for sale. Supported by Port & Shore Realty.\n\nFor more information call 207-985-4802 or visit the Brick Store Museum website at http://www.brickstoremuseum.org/.
X-ALT-DESC;FMTTYPE=text/html:<p>Watch star Charlie Chaplin navigate the battle front during World War I in one of Chaplin&#39\;s most classic silent films.</p>\n\n<p>Join us between 1 and 4 PM on Saturday\, May 26th at the Brick Store Museum. We are located at 117 Main Street\, Kennebunk.</p>\n\n<p>Admission is free! There will be snacks for sale. Supported by Port &amp\; Shore Realty.</p>\n\n<p>For more information call 207-985-4802 or visit the Brick Store Museum website at http://www.brickstoremuseum.org/.</p>\n
LOCATION:Brick Store Museum 117 Main Street Kennebunk\, Maine 04043
UID:e.1923.9873
SEQUENCE:3
DTSTAMP:20260425T155441Z
URL:https://chamber.gokennebunks.com/events/details/vintage-movies-at-the-museum-shoulder-arms-9873
END:VEVENT

END:VCALENDAR
