BEGIN:VCALENDAR
VERSION:2.0
PRODID:-//ChamberMaster//Event Calendar 2.0//EN
METHOD:PUBLISH
X-PUBLISHED-TTL:P3D
REFRESH-INTERVAL:P3D
CALSCALE:GREGORIAN
BEGIN:VEVENT
DTSTART:20180728T170000Z
DTEND:20180728T190000Z
X-MICROSOFT-CDO-ALLDAYEVENT:FALSE
SUMMARY:Vintage Movie Saturdays: "Night of the Living Dead"
DESCRIPTION:Beat the heat and take in the 1968 cult classic "Night of the Living Dead." Witness the film which forever changed the horror genre\, and introduced the modern zombie!\n\nMovie admission is free\, there will be snacks for sale!\n\n\n\nThe Vintage Movies at the Museum program is sponsored by Port & Shore Realty.
X-ALT-DESC;FMTTYPE=text/html:<p>Beat the heat and take in the 1968 cult classic &quot\;Night of the Living Dead.&quot\; Witness the film which forever changed the horror genre\, and introduced the modern zombie!</p>\n\n<p>Movie admission is free\, there will be snacks for sale!<br />\n<br />\nThe Vintage Movies at the Museum program is sponsored by Port &amp\; Shore Realty.</p>\n
LOCATION:Brick Store Museum 117 Main Street Kennebunk\, Maine 04043
UID:e.1923.9964
SEQUENCE:3
DTSTAMP:20260425T143603Z
URL:https://chamber.gokennebunks.com/events/details/vintage-movie-saturdays-night-of-the-living-dead-9964
END:VEVENT

END:VCALENDAR
