BEGIN:VCALENDAR
VERSION:2.0
PRODID:-//ChamberMaster//Event Calendar 2.0//EN
METHOD:PUBLISH
X-PUBLISHED-TTL:P3D
REFRESH-INTERVAL:P3D
CALSCALE:GREGORIAN
BEGIN:VEVENT
DTSTART:20190915T160000Z
DTEND:20190915T160000Z
X-MICROSOFT-CDO-ALLDAYEVENT:FALSE
SUMMARY:Vintage Baseball Game
DESCRIPTION:Old time baseball game with old rules and vintage uniforms presented by the Arundel Historical Society
X-ALT-DESC;FMTTYPE=text/html:Old time baseball game with old rules and vintage uniforms presented by the Arundel Historical Society
LOCATION:North Chapel Common Corner of Route 111 and Limerick Rd. Arundel
UID:e.1923.13076
SEQUENCE:3
DTSTAMP:20260424T163820Z
URL:https://chamber.gokennebunks.com/events/details/vintage-baseball-game-13076
END:VEVENT

END:VCALENDAR
