BEGIN:VCALENDAR
VERSION:2.0
PRODID:-//ChamberMaster//Event Calendar 2.0//EN
METHOD:PUBLISH
X-PUBLISHED-TTL:P3D
REFRESH-INTERVAL:P3D
CALSCALE:GREGORIAN
BEGIN:VEVENT
DTSTART:20180610T150000Z
DTEND:20180610T180000Z
X-MICROSOFT-CDO-ALLDAYEVENT:FALSE
SUMMARY:Vintage Base Ball Game: Maine Dirigo BBC VS New Hampshire Granite
DESCRIPTION:Join the Brick Store Museum for a vintage baseball game! The Maine Dirigo Baseball Club faces off against the New Hampshire Granite team at Parsons Field. \n\nThis will be a speedy game (1-2 hours)\, played by 1860s rules!\n\n50/50 raffle\, concessions\, and more. Bring lawn chairs and blankets!\n\n\n\nVisit our website at http://www.brickstoremuseum.org/vintagebaseball/ for online tickets or visit the Brick Store Museum for tickets!
X-ALT-DESC;FMTTYPE=text/html:<p>Join the Brick Store Museum for a vintage baseball game! The&nbsp\;Maine Dirigo Baseball Club faces off against the New Hampshire Granite team at Parsons Field.&nbsp\;</p>\n\n<p>This will be a speedy game (1-2 hours)\, played by 1860s rules!</p>\n\n<p>50/50 raffle\, concessions\, and more. Bring lawn chairs and blankets!<br />\n<br />\nVisit our website at&nbsp\;http://www.brickstoremuseum.org/vintagebaseball/ for online tickets or visit the Brick Store Museum for tickets!</p>\n
LOCATION:Parsons Field Parsons Field is located about a quarter of a mile behind the Brick Store Museum\, at the intersection of Dane Street and Park Street. It is about a five minute walk from the Museum.
UID:e.1923.7694
SEQUENCE:3
DTSTAMP:20260425T143317Z
URL:https://chamber.gokennebunks.com/events/details/vintage-base-ball-game-maine-dirigo-bbc-7694
END:VEVENT

END:VCALENDAR
