BEGIN:VCALENDAR
VERSION:2.0
PRODID:-//ChamberMaster//Event Calendar 2.0//EN
METHOD:PUBLISH
X-PUBLISHED-TTL:P3D
REFRESH-INTERVAL:P3D
CALSCALE:GREGORIAN
BEGIN:VEVENT
DTSTART:20250705T150000Z
DTEND:20250705T180000Z
X-MICROSOFT-CDO-ALLDAYEVENT:FALSE
SUMMARY:Vintage 1860s Baseball Game
DESCRIPTION:At Kennebunk High School Field\, Kennebunk. The Brick Store Museum presents Maine Dirigo Club vs Mudville club in a baseball game played with 1860s rules and uniforms! Sponsored by Kennebunk Hannaford and MM Total Bookkeeping. $10 per person (pre-purchase discounts available online). Concessions stand with proceeds to benefit the Brick Store Museum.\n\nFor more information: 207-985-4802 or www.brickstoremuseum.org.
X-ALT-DESC;FMTTYPE=text/html:At Kennebunk High School Field\, Kennebunk. The Brick Store Museum presents Maine Dirigo Club vs Mudville club in a baseball game played with 1860s rules and uniforms! Sponsored by Kennebunk Hannaford and MM Total Bookkeeping. $10 per person (pre-purchase discounts available online). Concessions stand with proceeds to benefit the Brick Store Museum.<br />\nFor more information: 207-985-4802 or <a href="http://www.brickstoremuseum.org/"><span style="color:windowtext">www.brickstoremuseum.org</span></a>.
LOCATION:Kennebunk High School Field\, Kennebunk.
UID:e.1923.37612
SEQUENCE:3
DTSTAMP:20260421T073446Z
URL:https://chamber.gokennebunks.com/events/details/vintage-1860s-baseball-game-07-05-2025-37612
END:VEVENT

END:VCALENDAR
