BEGIN:VCALENDAR
VERSION:2.0
PRODID:-//ChamberMaster//Event Calendar 2.0//EN
METHOD:PUBLISH
X-PUBLISHED-TTL:P3D
REFRESH-INTERVAL:P3D
CALSCALE:GREGORIAN
BEGIN:VEVENT
DTSTART:20230808T214500Z
DTEND:20230808T224500Z
X-MICROSOFT-CDO-ALLDAYEVENT:FALSE
SUMMARY:vino + vinyasa
DESCRIPTION:"love to flow? love to drink wine? love to meet new people? join us with Betsy from the Wine House on Main St the second Tuesday of each month all S U M M E R long. look forward to a one hour flow followed by wine tasting + snacks - did someone say texas grace may make a few guest appearances? your first wine tasting is included with purchase of class. love to flow? love to drink wine? love to meet new people? join us with Betsy from the Wine House on Main St the second Tuesday of each month all S U M M E R long. look forward to a one hour flow followed by wine tasting + snacks - did someone say texas grace may make a few guest appearances? your first wine tasting is included with purchase of class. more on sweat + flow: sweat + flow is our spin on a vinyasa/flow class. classes are set to music that will ebb and flow with your heart rate as we take you through breath work\, sun salutations\, yummy heart melting pose\, and everything in between. so come find your groove\, belt out a little Whitney Houston if it's in you and let your to-do list melt away as you carve out one hour just for you.
X-ALT-DESC;FMTTYPE=text/html:&quot\;love to flow? love to drink wine? love to meet new people? join us with Betsy from the Wine House on Main St the second Tuesday of each month all S U M M E R long. look forward to a one hour flow followed by wine tasting + snacks - did someone say texas grace may make a few guest appearances? your first wine tasting is included with purchase of class. love to flow? love to drink wine? love to meet new people? join us with Betsy from the Wine House on Main St the second Tuesday of each month all S U M M E R long. look forward to a one hour flow followed by wine tasting + snacks - did someone say texas grace may make a few guest appearances? your first wine tasting is included with purchase of class. more on sweat + flow: sweat + flow is our spin on a vinyasa/flow class. classes are set to music that will ebb and flow with your heart rate as we take you through breath work\, sun salutations\, yummy heart melting pose\, and everything in between. so come find your groove\, belt out a little Whitney Houston if it&#39\;s in you and let your to-do list melt away as you carve out one hour just for you.
LOCATION:The Wine House 17 Main St. Kennebunk\, ME
UID:e.1923.21509
SEQUENCE:3
DTSTAMP:20260422T033729Z
URL:https://chamber.gokennebunks.com/events/details/vino-vinyasa-08-08-2023-21509
END:VEVENT

END:VCALENDAR
