BEGIN:VCALENDAR
VERSION:2.0
PRODID:-//ChamberMaster//Event Calendar 2.0//EN
METHOD:PUBLISH
X-PUBLISHED-TTL:P3D
REFRESH-INTERVAL:P3D
CALSCALE:GREGORIAN
BEGIN:VEVENT
DTSTART:20220712T214500Z
DTEND:20220712T224500Z
X-MICROSOFT-CDO-ALLDAYEVENT:FALSE
SUMMARY:vino + vinyasa
DESCRIPTION:flow + sip! join us for an hour of flow from 545-645P in the garden + then stay for wine tasting with Betsy from the Wine House on main st in Kennebunk. first tasting is included with membership or drop-in.
X-ALT-DESC;FMTTYPE=text/html:flow + sip! join us for an hour of flow from 545-645P in the garden + then stay for wine tasting with Betsy from the Wine House on main st in Kennebunk. first tasting is included with membership or drop-in.
LOCATION:Wine House on Main St
UID:e.1923.17535
SEQUENCE:3
DTSTAMP:20260419T175542Z
URL:https://chamber.gokennebunks.com/events/details/vino-vinyasa-07-12-2022-17535
END:VEVENT

END:VCALENDAR
