BEGIN:VCALENDAR
VERSION:2.0
PRODID:-//ChamberMaster//Event Calendar 2.0//EN
METHOD:PUBLISH
X-PUBLISHED-TTL:P3D
REFRESH-INTERVAL:P3D
CALSCALE:GREGORIAN
BEGIN:VEVENT
DTSTART:20250707T211500Z
DTEND:20250707T221500Z
X-MICROSOFT-CDO-ALLDAYEVENT:FALSE
SUMMARY:vino + vinyasa
DESCRIPTION:love to flow? love to drink wine? love to meet new people? join us with Betsy from the Wine House on Main St. look forward to a one hour flow followed by wine tasting + snacks - did someone say texas grace may make a few guest appearances? your first wine tasting is included with purchase of class.\n\n\n\nmore on sweat + flow:\n\nsweat + flow is our spin on a vinyasa/flow class. classes are set to music that will ebb and flow with your heart rate as we take you through breath work\, sun salutations\, yummy heart melting pose\, and everything in between. so come find your groove\, belt out a little Whitney Houston if it's in you and let your to-do list melt away as you carve out one hour just for you.
X-ALT-DESC;FMTTYPE=text/html:<span style="color:rgb(0\, 0\, 0)\; font-family:arial\; font-size:10pt">love to flow? love to drink wine? love to meet new people? join us with Betsy from the Wine House on Main St. look forward to a one hour flow followed by wine tasting + snacks - did someone say texas grace may make a few guest appearances? your first wine tasting is included with purchase of class.<br />\n<br />\nmore on sweat + flow:<br />\nsweat + flow is our spin on a vinyasa/flow class. classes are set to music that will ebb and flow with your heart rate as we take you through breath work\, sun salutations\, yummy heart melting pose\, and everything in between. so come find your groove\, belt out a little Whitney Houston if it&#39\;s in you and let your to-do list melt away as you carve out one hour just for you.</span>
LOCATION:17 main ST\, Kennebunk ME\, 04043
UID:e.1923.35928
SEQUENCE:3
DTSTAMP:20260421T074333Z
URL:https://chamber.gokennebunks.com/events/details/vino-vinyasa-07-07-2025-35928
END:VEVENT

END:VCALENDAR
