BEGIN:VCALENDAR
VERSION:2.0
PRODID:-//ChamberMaster//Event Calendar 2.0//EN
METHOD:PUBLISH
X-PUBLISHED-TTL:P3D
REFRESH-INTERVAL:P3D
CALSCALE:GREGORIAN
BEGIN:VEVENT
DTSTART:20191111T110000Z
DTEND:20191112T000000Z
X-MICROSOFT-CDO-ALLDAYEVENT:FALSE
SUMMARY:Veterans Day Special
DESCRIPTION:Thankful for you! Veterans enjoy free classes all day!
X-ALT-DESC;FMTTYPE=text/html:Thankful for you! Veterans enjoy free classes all day!
LOCATION:The Daily Sweat Yoga + Barre Studio 65 Portland RD Building A\, Unit D\, Kennebunk\, ME 04043
UID:e.1923.15485
SEQUENCE:3
DTSTAMP:20260424T124429Z
URL:https://chamber.gokennebunks.com/events/details/veterans-day-special-15485
END:VEVENT

END:VCALENDAR
