BEGIN:VCALENDAR
VERSION:2.0
PRODID:-//ChamberMaster//Event Calendar 2.0//EN
METHOD:PUBLISH
X-PUBLISHED-TTL:P3D
REFRESH-INTERVAL:P3D
CALSCALE:GREGORIAN
BEGIN:VEVENT
DTSTART:20191111T170000Z
DTEND:20191111T170000Z
X-MICROSOFT-CDO-ALLDAYEVENT:FALSE
SUMMARY:Veterans Day Cermony
DESCRIPTION:Veterans Day Observance
X-ALT-DESC;FMTTYPE=text/html:Veterans Day Observance
LOCATION:Fire Station Limerick Road\, Arundel
UID:e.1923.13078
SEQUENCE:3
DTSTAMP:20260424T124409Z
URL:https://chamber.gokennebunks.com/events/details/veterans-day-cermony-13078
END:VEVENT

END:VCALENDAR
