BEGIN:VCALENDAR
VERSION:2.0
PRODID:-//ChamberMaster//Event Calendar 2.0//EN
METHOD:PUBLISH
X-PUBLISHED-TTL:P3D
REFRESH-INTERVAL:P3D
CALSCALE:GREGORIAN
BEGIN:VEVENT
DTSTART:20180214T203000Z
DTEND:20180215T013000Z
X-MICROSOFT-CDO-ALLDAYEVENT:FALSE
SUMMARY:Valentine’s Night Dinner
DESCRIPTION:Join us for a Special Romantic Valentines Dinner with your Sweetheart. We will have a special Dinner (with several choices) that include an appetizer\, salads\, meal and dessert! Plus Wine and Cocktail Specials! Reservations Suggested
X-ALT-DESC;FMTTYPE=text/html:Join us for a Special Romantic Valentines Dinner with your Sweetheart. We will have a special Dinner (with several choices) that include an appetizer\, salads\, meal and dessert! Plus Wine and Cocktail Specials! Reservations Suggested
LOCATION:Table of Seven 102 York St Kennebunk Me
UID:e.1923.7003
SEQUENCE:3
DTSTAMP:20260425T193642Z
URL:https://chamber.gokennebunks.com/events/details/valentine-s-night-dinner-7003
END:VEVENT

END:VCALENDAR
