BEGIN:VCALENDAR
VERSION:2.0
PRODID:-//ChamberMaster//Event Calendar 2.0//EN
METHOD:PUBLISH
X-PUBLISHED-TTL:P3D
REFRESH-INTERVAL:P3D
CALSCALE:GREGORIAN
BEGIN:VEVENT
DTSTART:20240214T220000Z
DTEND:20240215T020000Z
X-MICROSOFT-CDO-ALLDAYEVENT:FALSE
SUMMARY:Valentine's Day at Ocean
DESCRIPTION:Relish in a romantic evening on the coast with a special Valentine's men available through the weekend\, $120++ per person. Guests of Valentine's Day will receive a complimentary glass of bubbles.
X-ALT-DESC;FMTTYPE=text/html:Relish in a romantic evening on the coast with a special Valentine&#39\;s men available through the weekend\, $120++ per person. Guests of Valentine&#39\;s Day will receive a complimentary glass of bubbles.
LOCATION:Ocean at Cape Arundel Inn & Resort
UID:e.1923.23305
SEQUENCE:3
DTSTAMP:20260421T192605Z
URL:https://chamber.gokennebunks.com/events/details/valentine-s-day-at-ocean-23305
END:VEVENT

END:VCALENDAR
