BEGIN:VCALENDAR
VERSION:2.0
PRODID:-//ChamberMaster//Event Calendar 2.0//EN
METHOD:PUBLISH
X-PUBLISHED-TTL:P3D
REFRESH-INTERVAL:P3D
CALSCALE:GREGORIAN
BEGIN:VEVENT
DTSTART:20240214T220000Z
DTEND:20240215T020000Z
X-MICROSOFT-CDO-ALLDAYEVENT:FALSE
SUMMARY:Valentine's Day at Earth at Hidden Pond
DESCRIPTION:Dine and immerse within a romantic and calming setting. Surrounded by nature and ambient lighting\, you're sure to set the tone for a delightful evening! Open from 5:00PM-9:00PM serving standard 4-course menu\, $100++ per person.
X-ALT-DESC;FMTTYPE=text/html:Dine and immerse within a romantic and calming setting. Surrounded by nature and ambient lighting\, you&rsquo\;re sure to set the tone for a delightful evening! Open from 5:00PM-9:00PM serving standard 4-course menu\, $100++ per person.
LOCATION:Earth at Hidden Pond
UID:e.1923.23310
SEQUENCE:3
DTSTAMP:20260421T204831Z
URL:https://chamber.gokennebunks.com/events/details/valentine-s-day-at-earth-at-hidden-pond-23310
END:VEVENT

END:VCALENDAR
