BEGIN:VCALENDAR
VERSION:2.0
PRODID:-//ChamberMaster//Event Calendar 2.0//EN
METHOD:PUBLISH
X-PUBLISHED-TTL:P3D
REFRESH-INTERVAL:P3D
CALSCALE:GREGORIAN
BEGIN:VEVENT
DTSTART;VALUE=DATE:20240808
DTEND;VALUE=DATE:20240812
TRANSP:TRANSPARENT
X-MICROSOFT-CDO-ALLDAYEVENT:TRUE
SUMMARY:Vacationland Film Festival
DESCRIPTION:Biddeford City Theater will be hosting the first annual Vacationland Film Festival from Thursday\, August 8   Sunday\, August 11. Featured films at the Vacationland Film Festival will highlight the best of our writers\, directors\, producers\, and actors as well movies that were filmed in our great state. The Vacationland Film Festival will highlight all types of films (shorts\, documentaries\, feature-length\, etc.) with each day featuring meet and greets\, question and answer sessions\, or other ways to interact with the writers\, directors\, and actors behind the films.
X-ALT-DESC;FMTTYPE=text/html:Biddeford City Theater will be hosting the first annual Vacationland Film Festival from Thursday\, August 8 &ndash\; Sunday\, August 11. Featured films at the Vacationland Film Festival will highlight the best of our writers\, directors\, producers\, and actors as well movies that were filmed in our great state. The Vacationland Film Festival will highlight all types of films (shorts\, documentaries\, feature-length\, etc.) with each day featuring meet and greets\, question and answer sessions\, or other ways to interact with the writers\, directors\, and actors behind the films.
LOCATION:Biddeford City Theater
UID:e.1923.25431
SEQUENCE:3
DTSTAMP:20260421T111830Z
URL:https://chamber.gokennebunks.com/events/details/vacationland-film-festival-25431
END:VEVENT

END:VCALENDAR
