BEGIN:VCALENDAR
VERSION:2.0
PRODID:-//ChamberMaster//Event Calendar 2.0//EN
METHOD:PUBLISH
X-PUBLISHED-TTL:P3D
REFRESH-INTERVAL:P3D
CALSCALE:GREGORIAN
BEGIN:VEVENT
DTSTART:20241215T000000Z
DTEND:20241215T020000Z
X-MICROSOFT-CDO-ALLDAYEVENT:FALSE
SUMMARY:United States Air Force Heritage of America Band
DESCRIPTION:The United States Air Force Heritage of America Band\, renowned worldwide for over 60 years\, brings their exceptional musicianship to SPAC. This distinguished group of more than 40 professional Airmen-musicians performs a diverse repertoire\, including orchestral classics\, Broadway hits\, and patriotic favorites. Through the universal language of music\, they perform to instill patriotism\, build partnerships\, and enhance the reputation of the Air Force and the United States. Their performances honor the contributions of veterans and demonstrate American values to the world. Honor our veterans and values with your attendance at this much-anticipated concert.
X-ALT-DESC;FMTTYPE=text/html:The United States Air Force Heritage of America Band\, renowned worldwide for over 60 years\, brings their exceptional musicianship to SPAC. This distinguished group of more than 40 professional Airmen-musicians performs a diverse repertoire\, including orchestral classics\, Broadway hits\, and patriotic favorites. Through the universal language of music\, they perform to instill patriotism\, build partnerships\, and enhance the reputation of the Air Force and the United States. Their performances honor the contributions of veterans and demonstrate American values to the world. Honor our veterans and values with your attendance at this much-anticipated concert.
LOCATION:Sanford Performing Arts Center\, Alumni Blvd.\, Sanford
UID:e.1923.30966
SEQUENCE:3
DTSTAMP:20260421T021124Z
URL:https://chamber.gokennebunks.com/events/details/united-states-air-force-heritage-of-america-band-30966
END:VEVENT

END:VCALENDAR
