BEGIN:VCALENDAR
VERSION:2.0
PRODID:-//ChamberMaster//Event Calendar 2.0//EN
METHOD:PUBLISH
X-PUBLISHED-TTL:P3D
REFRESH-INTERVAL:P3D
CALSCALE:GREGORIAN
BEGIN:VEVENT
DTSTART:20190405T200000Z
DTEND:20190406T000000Z
X-MICROSOFT-CDO-ALLDAYEVENT:FALSE
SUMMARY:UNE's Brain Fair
DESCRIPTION:The annual Brain Fair promotes interest in STEM disciplines (neuroscience in particular) within the greater community. The Fair has a number of neuroscience-related hands-on activities and experiments for the general public\, resulting in a science museum-like experience for the local community. The event is put on by The Center for Excellence in the Neurosciences at the University of New England. Activities are created by students\, staff\, and faculty. All activities are free and open to the public. Event is ideal for ages 4 and up.
X-ALT-DESC;FMTTYPE=text/html:The annual Brain Fair promotes interest in STEM disciplines (neuroscience in particular) within the greater community. The Fair has a number of neuroscience-related hands-on activities and experiments for the general public\, resulting in a science museum-like experience for the local community. The event is put on by The Center for Excellence in the Neurosciences at the University of New England. Activities are created by students\, staff\, and faculty. All activities are free and open to the public. Event is ideal for ages 4 and up.
LOCATION:Harold Alfond Forum 630 Pool Street\, Biddeford\, ME 04005
UID:e.1923.13111
SEQUENCE:3
DTSTAMP:20260424T235852Z
URL:https://chamber.gokennebunks.com/events/details/une-s-brain-fair-13111
END:VEVENT

END:VCALENDAR
