BEGIN:VCALENDAR
VERSION:2.0
PRODID:-//ChamberMaster//Event Calendar 2.0//EN
METHOD:PUBLISH
X-PUBLISHED-TTL:P3D
REFRESH-INTERVAL:P3D
CALSCALE:GREGORIAN
BEGIN:VEVENT
DTSTART:20231002T210000Z
DTEND:20231002T230000Z
X-MICROSOFT-CDO-ALLDAYEVENT:FALSE
SUMMARY:Une Petite Soirée Française
DESCRIPTION:Monday\, October 2 at 5:00 PM. Une Petite Soir e Fran aise. Aimez-vous parler fran ais\, lire des livres ou regarder des films fran ais? Souhaitez-vous avoir l'occasion de le parler plus fr quemment? Si la r ponse est "oui"\,  partagez votre passion avec nous   une petite soir e fran aise. Faites la connaissance d'autres Francophones et partagez votre histoire\, en fran ais\, bien sur. Nous attendons de vous accueillir. Lundi le 2 octobre de 17h   19h Graves Library 18 Maine Street\, Kennebunkport. Des l gers rafra chissements seront servis. Merci de confirmer votre participation avant le 27 septembre Contactez 967-2778.
X-ALT-DESC;FMTTYPE=text/html:Monday\, October 2 at 5:00 PM. Une Petite Soir&eacute\;e Fran&ccedil\;aise. Aimez-vous parler fran&ccedil\;ais\, lire des livres ou regarder des films fran&ccedil\;ais? Souhaitez-vous avoir l&rsquo\;occasion de le parler plus fr&eacute\;quemment? Si la r&eacute\;ponse est &ldquo\;oui&rdquo\;\,&nbsp\; partagez votre passion avec nous &agrave\; une petite soir&eacute\;e fran&ccedil\;aise. Faites la connaissance d&rsquo\;autres Francophones et partagez votre histoire\, en fran&ccedil\;ais\, bien sur. Nous attendons de vous accueillir. Lundi le 2 octobre de 17h &agrave\; 19h Graves Library 18 Maine Street\, Kennebunkport. Des l&eacute\;gers rafra&icirc\;chissements seront servis. Merci de confirmer votre participation avant le 27 septembre Contactez 967-2778.
LOCATION:Graves Library 18 Maine Street\, Kennebunkport.
UID:e.1923.22499
SEQUENCE:3
DTSTAMP:20260422T004929Z
URL:https://chamber.gokennebunks.com/events/details/une-petite-soir&#233;e-fran&#231;aise-22499
END:VEVENT

END:VCALENDAR
