BEGIN:VCALENDAR
VERSION:2.0
PRODID:-//ChamberMaster//Event Calendar 2.0//EN
METHOD:PUBLISH
X-PUBLISHED-TTL:P3D
REFRESH-INTERVAL:P3D
CALSCALE:GREGORIAN
BEGIN:VEVENT
DTSTART:20191109T003000Z
DTEND:20191109T030000Z
X-MICROSOFT-CDO-ALLDAYEVENT:FALSE
SUMMARY:Two Boston Guys Crack Up Maine
DESCRIPTION:Don't miss this ONE NIGHT ONLY event!  Join the City Theater and Vinegar Hill for a night of laughs with comedians Jimmy Dunn and Tony V.
X-ALT-DESC;FMTTYPE=text/html:Don&#39\;t miss this ONE NIGHT ONLY event!&nbsp\; Join the City Theater and Vinegar Hill for a night of laughs with comedians Jimmy Dunn and Tony V.
LOCATION:205 Main Street\, Biddeford. Maine
UID:e.1923.15511
SEQUENCE:3
DTSTAMP:20260424T124543Z
URL:https://chamber.gokennebunks.com/events/details/two-boston-guys-crack-up-maine-15511
END:VEVENT

END:VCALENDAR
