BEGIN:VCALENDAR
VERSION:2.0
PRODID:-//ChamberMaster//Event Calendar 2.0//EN
METHOD:PUBLISH
X-PUBLISHED-TTL:P3D
REFRESH-INTERVAL:P3D
CALSCALE:GREGORIAN
BEGIN:VEVENT
DTSTART:20190818T113000Z
DTEND:20190818T190000Z
X-MICROSOFT-CDO-ALLDAYEVENT:FALSE
SUMMARY:Trust Trail Fest
DESCRIPTION:Join us on Sunday\, August 18th for a fun day at our headquarters! Pick from a 5k\, 10k or half marathon....something for everyone! The course winds through our beautiful trail system and ends at our headquarters with a party you won't want to miss! The events will feature music all day from The Music Man DJ Service\, a beer tent\, delicious food and games for the whole family! All proceeds from the trail races benefit our educational programs. A win for everyone!
X-ALT-DESC;FMTTYPE=text/html:Join us on Sunday\, August 18th for a fun day at our headquarters! Pick from a 5k\, 10k or half marathon....something for everyone! The course winds through our beautiful trail system and ends at our headquarters with a party you won&#39\;t want to miss! The events will feature music all day from The Music Man DJ Service\, a beer tent\, delicious food and games for the whole family! All proceeds from the trail races benefit our educational programs. A win for everyone!
LOCATION:Kennebunkport Conservation Trust 57 Gravelly Brook Road Kennebunkport\, Maine
UID:e.1923.13395
SEQUENCE:3
DTSTAMP:20260424T165419Z
URL:https://chamber.gokennebunks.com/events/details/trust-trail-fest-13395
END:VEVENT

END:VCALENDAR
