BEGIN:VCALENDAR
VERSION:2.0
PRODID:-//ChamberMaster//Event Calendar 2.0//EN
METHOD:PUBLISH
X-PUBLISHED-TTL:P3D
REFRESH-INTERVAL:P3D
CALSCALE:GREGORIAN
BEGIN:VEVENT
DTSTART:20191027T140000Z
DTEND:20191027T210000Z
X-MICROSOFT-CDO-ALLDAYEVENT:FALSE
SUMMARY:Trolleyween
DESCRIPTION:On Sunday\, October 27th\, the community is invited to participate in Trolleyween to celebrate the last day of Seashore Trolley Museum's regular operating season from 10AM-5PM.\n\n\n\nAll guests will receive treats and the opportunity to search for lollipop ghosts hidden around the Museum. Lucky guests who find a ghost will be entered into a raffle for a free family membership for the 2020 season! Ghosts will be replenished throughout the day to ensure guests visiting at any time on Trolleyween have the opportunity to play. Wearing costumes is encouraged!\n\n\n\nAdmission to Trolleyween is regular museum admission: $12 for adults\, $10 for adults 60+\, $9.50 for youth 6-16\, $5 for youth 3-5\, and free for youth under 3. All proceeds benefit the Seashore Trolley Museum. \n\n\n\nLocated at 195 Log Cabin Road in Kennebunkport\, Seashore Trolley Museum is the world's oldest and largest electric railway and transit museum.
X-ALT-DESC;FMTTYPE=text/html:On Sunday\, October 27th\, the community is invited to participate in Trolleyween to celebrate the last day of Seashore Trolley Museum&#39\;s regular operating season from 10AM-5PM.<br />\n<br />\nAll guests will receive treats and the opportunity to search for lollipop ghosts hidden around the Museum. Lucky guests who find a ghost will be entered into a raffle for a free family membership for the 2020 season! Ghosts will be replenished throughout the day to ensure guests visiting at any time on Trolleyween have the opportunity to play. Wearing costumes is encouraged!<br />\n<br />\nAdmission to Trolleyween is regular museum admission: $12 for adults\, $10 for adults 60+\, $9.50 for youth 6-16\, $5 for youth 3-5\, and free for youth under 3. All proceeds benefit the Seashore Trolley Museum.&nbsp\;<br />\n<br />\nLocated at 195 Log Cabin Road in Kennebunkport\, Seashore Trolley Museum is the world&rsquo\;s oldest and largest electric railway and transit museum.
LOCATION:Seashore Trolley Museum 195 Log Cabin Road Kennebunkport\, ME 04046
UID:e.1923.15492
SEQUENCE:3
DTSTAMP:20260424T140450Z
URL:https://chamber.gokennebunks.com/events/details/trolleyween-15492
END:VEVENT

END:VCALENDAR
