BEGIN:VCALENDAR
VERSION:2.0
PRODID:-//ChamberMaster//Event Calendar 2.0//EN
METHOD:PUBLISH
X-PUBLISHED-TTL:P3D
REFRESH-INTERVAL:P3D
CALSCALE:GREGORIAN
BEGIN:VEVENT
DTSTART:20240309T223000Z
DTEND:20240310T010000Z
X-MICROSOFT-CDO-ALLDAYEVENT:FALSE
SUMMARY:Trivia Night & Around the World Dinner
DESCRIPTION:Back by popular demand\, it's the Trivia Night Dinner at The New School! Travel around the world in five courses inspired from Southeastern Asia\, the Middle East\, Europe\, the Caribbean\, and the Americas. Proceeds from your world feasting ticket go to funding our students' educational travels! On Saturday\, March 9\, you'll be entertained with an evening of trivia and food prepared and served by our students. Tickets are $45 (only $9 per course!). If you can't attend but want to purchase a community ticket so others can attend\, those options are available! Your menu for the evening: Appetizer: Hummus plate with pita and crudit s platter Salad: Thai quinoa salad Soup: Jamaican-inspired curried butternut squash soup Main Course: Lasagna with garlic bread (vegetarian & vegan options available) Dessert: Apple pie  la mode Doors open at 5:30 PM with dinner service beginning at 6 PM.
X-ALT-DESC;FMTTYPE=text/html:Back by popular demand\, it&rsquo\;s the Trivia Night Dinner at The New School! Travel around the world in five courses inspired from Southeastern Asia\, the Middle East\, Europe\, the Caribbean\, and the Americas. Proceeds from your world feasting ticket go to funding our students&rsquo\; educational travels! On Saturday\, March 9\, you&rsquo\;ll be entertained with an evening of trivia and food prepared and served by our students. Tickets are $45 (only $9 per course!). If you can&rsquo\;t attend but want to purchase a community ticket so others can attend\, those options are available! Your menu for the evening: Appetizer: Hummus plate with pita and crudit&eacute\;s platter Salad: Thai quinoa salad Soup: Jamaican-inspired curried butternut squash soup Main Course: Lasagna with garlic bread (vegetarian &amp\; vegan options available) Dessert: Apple pie &agrave\;la mode Doors open at 5:30 PM with dinner service beginning at 6 PM.
LOCATION:The New School 38 York Street Kennebunk\, ME 04043
UID:e.1923.24433
SEQUENCE:3
DTSTAMP:20260421T180440Z
URL:https://chamber.gokennebunks.com/events/details/trivia-night-around-the-world-dinner-24433
END:VEVENT

END:VCALENDAR
