BEGIN:VCALENDAR
VERSION:2.0
PRODID:-//ChamberMaster//Event Calendar 2.0//EN
METHOD:PUBLISH
X-PUBLISHED-TTL:P3D
REFRESH-INTERVAL:P3D
CALSCALE:GREGORIAN
BEGIN:VEVENT
DTSTART;VALUE=DATE:20260107
DTEND;VALUE=DATE:20260108
TRANSP:TRANSPARENT
X-MICROSOFT-CDO-ALLDAYEVENT:TRUE
SUMMARY:Trivia at Federal Jack's Brew Pub
DESCRIPTION:Trivia at Federal Jack's Brew Pub!\n6-8 pm every Wednesday!\n\nBring a friends\, bring a team\, enjoy some food and drinks\, and prove you are the smartest!\n\nPrizes awarded to the top 3 teams!\n\nCheers!
X-ALT-DESC;FMTTYPE=text/html:<h2 style="font-style:italic\;"><span style="color:#0000FF"><strong><span style="font-size:20px"><span style="font-family:times new roman">Trivia at Federal Jack&#39\;s Brew Pub!</span></span></strong></span></h2>\n6-8 pm every Wednesday!<br />\nBring a friends\, bring a team\, enjoy some food and drinks\, and prove you are the smartest!<br />\nPrizes awarded to the top 3 teams!<br />\nCheers!
LOCATION:Federal Jack's Brew Pub 8 Western Ave Kennebunk\, mE 0404M
UID:e.1923.38180
SEQUENCE:3
DTSTAMP:20260421T180653Z
URL:https://chamber.gokennebunks.com/events/details/trivia-at-federal-jack-s-brew-pub-01-07-2026-38180
END:VEVENT

END:VCALENDAR
