BEGIN:VCALENDAR
VERSION:2.0
PRODID:-//ChamberMaster//Event Calendar 2.0//EN
METHOD:PUBLISH
X-PUBLISHED-TTL:P3D
REFRESH-INTERVAL:P3D
CALSCALE:GREGORIAN
BEGIN:VEVENT
DTSTART:20250208T220000Z
DTEND:20250209T000000Z
X-MICROSOFT-CDO-ALLDAYEVENT:FALSE
SUMMARY:Tree Spa Galentine's Party
DESCRIPTION:Celebrate with the gals for Galentine's Day at Cape Arundel Inn & Resort's Tree Spa Pop-Up at Cape for a relaxing evening with friends! Bond with your girls with mini spa treatments (including chair\, arm and hand massages)\, tarot card readings\, bubbles\, snacks\, raffles\, spa gift bags\, a DIY Goddess Bath Mix demonstration\, and a skin analysis! Also\, enter to win spa products and spoil yourselves with a little Valentine's shopping with us!\n\n~ ~\n\n*Cape Arundel Tree Spa Pop-Up is located at 8 Old Fort Avenue in Kennebunkport. Class is open to adults 21 years of age or older. Proper ID is required at door. We look forward to seeing you.\n\n\n\nPURCHASE TICKETS: https://www.eventbrite.com/e/tree-spa-galentines-party-tickets-1065080828429?aff=oddtdtcreator
X-ALT-DESC;FMTTYPE=text/html:<p>Celebrate with the gals for Galentine&#39\;s Day at Cape Arundel Inn &amp\; Resort&#39\;s Tree Spa Pop-Up at Cape for a relaxing evening with friends! Bond with your girls with mini spa treatments (including chair\, arm and hand massages)\, tarot card readings\, bubbles\, snacks\, raffles\, spa gift bags\, a DIY Goddess Bath Mix demonstration\, and a skin analysis! Also\, enter to win spa products and spoil yourselves with a little Valentine&#39\;s shopping with us!</p>\n\n<p>~ ~</p>\n\n<p>*Cape Arundel Tree Spa Pop-Up is located at 8 Old Fort Avenue in Kennebunkport. Class is open to adults 21 years of age or older. Proper ID is required at door. We look forward to seeing you.<br />\n<br />\n<a href="https://www.eventbrite.com/e/tree-spa-galentines-party-tickets-1065080828429?aff=oddtdtcreator"><strong>PURCHASE TICKETS:&nbsp\;https://www.eventbrite.com/e/tree-spa-galentines-party-tickets-1065080828429?aff=oddtdtcreator</strong></a></p>\n
LOCATION:Cape Arundel Clubhouse 8 Old Fort Avenue Kennebunkport\, Maine 04046
UID:e.1923.31473
SEQUENCE:3
DTSTAMP:20260421T003605Z
URL:https://chamber.gokennebunks.com/events/details/tree-spa-galentine-s-party-02-08-2025-31473
END:VEVENT

END:VCALENDAR
