BEGIN:VCALENDAR
VERSION:2.0
PRODID:-//ChamberMaster//Event Calendar 2.0//EN
METHOD:PUBLISH
X-PUBLISHED-TTL:P3D
REFRESH-INTERVAL:P3D
CALSCALE:GREGORIAN
BEGIN:VEVENT
DTSTART:20191005T113000Z
DTEND:20191005T174500Z
X-MICROSOFT-CDO-ALLDAYEVENT:FALSE
SUMMARY:Trail Fest
DESCRIPTION:Join us on Saturday\, October 5th for a fun day at our headquarters!  Pick from a 5k\, 10k or half marathon....something for everyone!  The course winds through our beautiful trail system and ends at our headquarters with a party you won't want to miss!
X-ALT-DESC;FMTTYPE=text/html:Join us on Saturday\, October 5th for a fun day at our headquarters!&nbsp\; Pick from a 5k\, 10k or half marathon....something for everyone!&nbsp\; The course winds through our beautiful trail system and ends at our headquarters with a party you won&#39\;t want to miss!&nbsp\;
LOCATION:Kennebunkport Conservation Trust Graveley Brook Drive Kennebunkport\, Maine
UID:e.1923.13480
SEQUENCE:3
DTSTAMP:20260424T140627Z
URL:https://chamber.gokennebunks.com/events/details/trail-fest-13480
END:VEVENT

END:VCALENDAR
