BEGIN:VCALENDAR
VERSION:2.0
PRODID:-//ChamberMaster//Event Calendar 2.0//EN
METHOD:PUBLISH
X-PUBLISHED-TTL:P3D
REFRESH-INTERVAL:P3D
CALSCALE:GREGORIAN
BEGIN:VEVENT
DTSTART:20241026T132000Z
DTEND:20241026T192000Z
X-MICROSOFT-CDO-ALLDAYEVENT:FALSE
SUMMARY:TRACK OR TREAT Halloween Run
DESCRIPTION:Join Revolution Rail for our Track or Treat Halloween railbiking weekend in Kennebunkport!\n\n\n\nEnjoy a scenic 3.5-mile round trip through the fall landscape\, collect candy and exclusive Halloween stickers at the turnaround\, and dress up in costumes for extra fun.\n\n\n\nPerfect for all ages\, this festive experience is included with your railbiking ticket at no extra cost. Located at the Seashore Trolly Museum\, don?t miss this Halloween adventure!\n\n\n\nSame-day admission to the Seashore Trolley Museum is included in the price of your railbike excursion\, plan to explore the museum?s exhibits. Please note that if you book the 3:20 p.m. tour\, you will need to visit the museum before your railbike ride\, as the museum closes at 4:30 p.m. The last trolley ride that works in tandem with a railbike ride is 2:15 p.m
X-ALT-DESC;FMTTYPE=text/html:<span style="font-size:12px"><span style="font-family:arial\,helvetica\,sans-serif"><span style="color:rgb(0\, 0\, 0)">Join Revolution Rail for our <strong>Track or Treat Halloween</strong> railbiking weekend in Kennebunkport!<br>\n<br>\nEnjoy a scenic 3.5-mile round trip through the fall landscape\, collect candy and exclusive Halloween stickers at the turnaround\, and dress up in costumes for extra fun.<br>\n<br>\nPerfect for all ages\, this festive experience is included with your railbiking ticket at no extra cost. Located at the Seashore Trolly Museum\,&nbsp\;don?t miss this Halloween adventure!<br>\n<br>\nSame-day admission to the </span><a href="https://trolleymuseum.org/" style="caret-color: rgb(0\, 0\, 0)\; text-wrap-mode: wrap\; white-space-collapse: initial\; background-image: unset\; background-position: unset\; background-size: unset\; background-repeat: unset\; background-attachment: scroll\; background-origin: padding-box\; background-clip: border-box\; cursor: pointer\; color: rgb(51\, 51\, 51)\; text-decoration-style: solid\; text-decoration-color: currentcolor\; text-decoration-thickness: 1px\; text-underline-offset: 0.2em\; text-decoration-skip-ink: auto\; overflow-wrap: break-word\; font-family: futura-pt\; font-size: 19.200001px\;" target="_blank">Seashore Trolley Museum</a><span style="color:rgb(0\, 0\, 0)"> is included in the price of your railbike excursion\, plan to explore the museum?s exhibits. Please note that if you book the 3:20 p.m. tour\, you will need to visit the museum before your railbike ride\, as the museum closes at 4:30 p.m. The last trolley ride that works in tandem with a railbike ride is 2:15 p.m</span></span></span>
LOCATION:195 Log Cabin Road\, Kennebunkport\, ME 04046 (Located at the Seashore Trolly Museum)
UID:e.1923.31047
SEQUENCE:3
DTSTAMP:20260421T085006Z
URL:https://chamber.gokennebunks.com/events/details/track-or-treat-halloween-run-10-26-2024-31047
END:VEVENT

END:VCALENDAR
