BEGIN:VCALENDAR
VERSION:2.0
PRODID:-//ChamberMaster//Event Calendar 2.0//EN
METHOD:PUBLISH
X-PUBLISHED-TTL:P3D
REFRESH-INTERVAL:P3D
CALSCALE:GREGORIAN
BEGIN:VEVENT
DTSTART:20180728T140000Z
DTEND:20180729T180000Z
X-MICROSOFT-CDO-ALLDAYEVENT:FALSE
SUMMARY:Tom Sawyer
DESCRIPTION:Our Children's Theatre campers spend one to two weeks learning everything from acting\, singing and choreography to understanding lighting\, sound cues and blocking movements on stage before performing on the Playhouse's main stage with sets and costumes by our production team!\n\n\n\n\n\nTom Sawyer is a rascal\, a scamp\, and a mischief-maker. He is also the best friend Huckleberry Finn has ever had. Travel to the Mississippi Delta when life was as simple as straw hats and bib overalls with this delightful musical that includes the songs\, "Paint the Town Red\," "A Boy Like That!\," and "Hannibal\, The Only Place for Me."\n\n \n\nTicket Prices: $17
X-ALT-DESC;FMTTYPE=text/html:<div>\n<div>\n<p>Our Children&#39\;s Theatre campers spend one to two weeks learning everything from acting\, singing and choreography to understanding lighting\, sound cues and blocking movements on stage before performing on the Playhouse&#39\;s main stage with sets and costumes by our production team!</p>\n</div>\n</div>\n\n<div>\n<div>\n<p>Tom Sawyer is a rascal\, a scamp\, and a mischief-maker. He is also the best friend Huckleberry Finn has ever had.&nbsp\;Travel to the Mississippi Delta when life was as simple as straw hats and bib overalls with this delightful musical that includes the songs\, &ldquo\;Paint the Town Red\,&rdquo\; &ldquo\;A Boy Like That!\,&rdquo\; and &ldquo\;Hannibal\, The Only Place for Me.&rdquo\;</p>\n\n<p>&nbsp\;</p>\n\n<p>Ticket Prices: $17</p>\n</div>\n</div>\n
LOCATION:Ogunquit Playhouse
UID:e.1923.9962
SEQUENCE:3
DTSTAMP:20260425T132537Z
URL:https://chamber.gokennebunks.com/events/details/tom-sawyer-9962
END:VEVENT

END:VCALENDAR
