BEGIN:VCALENDAR
VERSION:2.0
PRODID:-//ChamberMaster//Event Calendar 2.0//EN
METHOD:PUBLISH
X-PUBLISHED-TTL:P3D
REFRESH-INTERVAL:P3D
CALSCALE:GREGORIAN
BEGIN:VEVENT
DTSTART:20240914T000000Z
DTEND:20240914T020000Z
X-MICROSOFT-CDO-ALLDAYEVENT:FALSE
SUMMARY:Tom Rush
DESCRIPTION:GA Seated: $25 Advance | $35 Door\n\nFood Truck 6pm\n\nDoors 7pm | Show 8pm\n\n \n\n \n\nJoin us for food and drinks before the show in our outdoor garden starting at 6pm! \n\nThe night's food truck is Pam & Fam Forkin Good Grub!\n\n \n\nJULIA is a musical duo featuring American Idol finalist Julia Gagnon and her fianc \, Nate Haven. Julia grew up in Cumberland and now lives in Yarmouth with Nate\, who plays acoustic guitar for the group. Julia Gagnon's musical journey really took flight on this season's American Idol\, where she wowed the judges with her rendition of Aretha Franklin's "Ain't No Way\," earning her a Platinum Ticket and ultimately\, securing her spot as a top 7 finalist of the season. Catch her at Vinegar Hill for JULIA's "Here in Maine" tour\, celebrating the community that supported her throughout her American Idol journey!
X-ALT-DESC;FMTTYPE=text/html:<h4>GA Seated: $25 Advance | $35 Door</h4>\n\n<h4>Food Truck 6pm</h4>\n\n<h4>Doors 7pm | Show 8pm</h4>\n\n<h4>&nbsp\;</h4>\n\n<p>&nbsp\;</p>\n\n<p>Join us for food and drinks before the show in our outdoor garden starting at&nbsp\;<strong>6pm!</strong>&nbsp\;</p>\n\n<p>The night&rsquo\;s food truck is<strong> Pam &amp\; Fam Forkin Good Grub!</strong></p>\n\n<p>&nbsp\;</p>\n\n<p><strong>JULIA</strong> is a musical duo featuring American Idol finalist Julia Gagnon and her fianc&eacute\;\, Nate Haven. Julia grew up in Cumberland and now lives in Yarmouth with Nate\, who plays acoustic guitar for the group. Julia Gagnon&#39\;s musical journey really took flight on this season&#39\;s American Idol\, where she wowed the judges with her rendition of Aretha Franklin&#39\;s &quot\;Ain&#39\;t No Way\,&quot\; earning her a Platinum Ticket and ultimately\, securing her spot as a top 7 finalist of the season. Catch her at Vinegar Hill for JULIA&#39\;s &quot\;Here in Maine&quot\; tour\, celebrating the community that supported her throughout her American Idol journey!</p>\n
LOCATION:Vinegar Hill Music Theatre 53 Old Post Road Arundel\, Maine 04046
UID:e.1923.29887
SEQUENCE:3
DTSTAMP:20260421T095920Z
URL:https://chamber.gokennebunks.com/events/details/tom-rush-09-13-2024-29887
END:VEVENT

END:VCALENDAR
