BEGIN:VCALENDAR
VERSION:2.0
PRODID:-//ChamberMaster//Event Calendar 2.0//EN
METHOD:PUBLISH
X-PUBLISHED-TTL:P3D
REFRESH-INTERVAL:P3D
CALSCALE:GREGORIAN
BEGIN:VEVENT
DTSTART:20241016T223000Z
DTEND:20241017T003000Z
X-MICROSOFT-CDO-ALLDAYEVENT:FALSE
SUMMARY:Tom Perrotta in Conversation with Richard Russo - A Benefit for Graves Memorial Library
DESCRIPTION:Reserved Seating: $50 - $60\n\nFood Truck + Garden Bar 5pm | Show 6:30pm\n\n \n\nJoin us for food and drinks before the show in our outdoor garden starting at 6pm! \n\nThe night's food truck is Vintage Dogs - featuring a spread of specialty hot dogs (including vegan ones!)\, sandwiches\, and fries!\n\n \n\n \n\nGraves Library is thrilled to welcome acclaimed author Richard Russo back to the Vinegar Hill stage. He will be joined by bestselling author Tom Perrotta for an evening of lively conversation. \n\n \n\nPrint: A Bookstore will be selling a variety of the authors' works during the first hour of the event.\n\n \n\nBook signing with authors following the event.\n\n \n\nTom Perrotta is the bestselling author of ten works of fiction\, including Election and Little Children\, both of which were made into Oscar-nominated films\, and The Leftovers and Mrs. Fletcher\, which were adapted into critically acclaimed HBO series. His other books include Bad Haircut\, The Wishbones\, Joe College\, The Abstinence Teacher\, Nine Inches\, and his newest\, Tracy Flick Can't Win. His work has been translated into a multitude of languages. Perrotta lives outside Boston.\n\n \n\nRichard Russo is the author of ten acclaimed novels\, including Everybody's Fool and That Old Cape Magic\; two collections of stories\; and the memoir Elsewhere. In 2002 he received the Pulitzer Prize for Empire Falls\, which\, like Nobody's Fool\, was adapted into a multiple-award-winning miniseries\; in 2017\, he received France's Grand Prix de Litt rature Am ricaine. His novel\, Somebody's Fool\, was released in July 2023. \n\n \n\nGraves Memorial Library thanks Vinegar Hill Music Theatre for their continued generosity in sponsoring this event.
X-ALT-DESC;FMTTYPE=text/html:<h4><span style="color:#000000">Reserved Seating: $50 - $60</span></h4>\n\n<h4><span style="color:#000000">Food Truck + Garden Bar 5pm | Show 6:30pm</span></h4>\n\n<p>&nbsp\;</p>\n\n<p><span style="color:#000000">Join us for food and drinks before the show in our outdoor garden starting at&nbsp\;<strong>6pm!</strong>&nbsp\;</span></p>\n\n<p><span style="color:#000000">The night&rsquo\;s food truck is&nbsp\;</span><a href="https://www.facebook.com/profile.php?id=61556399880050" rel="noopener noreferrer" style="box-sizing: border-box\; color: rgb(255\, 255\, 255)\; text-decoration-line: none\; background-color: transparent\; outline: none !important\;" target="_blank"><span style="color:#000000"><strong>Vintage Dogs</strong></span></a><span style="color:#000000"> -&nbsp\;featuring a spread of specialty hot dogs (including vegan ones!)\, sandwiches\, and fries!</span></p>\n\n<p>&nbsp\;</p>\n\n<p>&nbsp\;</p>\n\n<p><a href="https://graveslibrary.org/" rel="noopener noreferrer" style="box-sizing: border-box\; color: rgb(255\, 255\, 255)\; text-decoration-line: none\; background-color: transparent\; outline: none !important\;" target="_blank"><span style="color:#000000"><strong>Graves&nbsp\;Library</strong></span></a><span style="color:#000000"> is thrilled to welcome acclaimed author Richard Russo back to the Vinegar Hill stage. He will be joined by bestselling author Tom Perrotta for an evening of lively conversation.&nbsp\;</span></p>\n\n<p>&nbsp\;</p>\n\n<p><a href="https://www.printbookstore.com/" rel="noopener noreferrer" style="box-sizing: border-box\; color: rgb(255\, 255\, 255)\; text-decoration-line: none\; background-color: transparent\; outline: none !important\;" target="_blank"><span style="color:#000000"><strong>Print: A Bookstore</strong></span></a><span style="color:#000000"><span style="background-color:transparent"> will be selling a variety of the authors&rsquo\; works during the first hour of the event.</span></span></p>\n\n<p>&nbsp\;</p>\n\n<p><span style="color:#000000"><span style="background-color:transparent">Book signing with authors following the event.</span></span></p>\n\n<p>&nbsp\;</p>\n\n<p><a href="https://tomperrotta.net/" rel="noopener noreferrer" style="box-sizing: border-box\; color: rgb(255\, 255\, 255)\; text-decoration-line: none\; background-color: transparent\; outline: none !important\;" target="_blank"><span style="color:#000000"><strong>Tom Perrotta</strong></span></a><span style="color:#000000"> is the bestselling author of ten works of fiction\, including&nbsp\;<em>Election&nbsp\;</em>and&nbsp\;</span><a href="https://tomperrotta.net/books/little-children/" rel="noopener noreferrer" style="box-sizing: border-box\; color: rgb(255\, 255\, 255)\; text-decoration-line: none\; background-color: transparent\; outline: none !important\;" target="_blank"><span style="color:#000000"><em>Little Children</em></span></a><span style="color:#000000">\, both of which were made into Oscar-nominated films\, and&nbsp\;</span><a href="https://tomperrotta.net/books/the-leftovers/" rel="noopener noreferrer" style="box-sizing: border-box\; color: rgb(255\, 255\, 255)\; text-decoration-line: none\; background-color: transparent\; outline: none !important\;" target="_blank"><span style="color:#000000"><em>The Leftovers</em></span></a><span style="color:#000000"><em>&nbsp\;</em>and&nbsp\;<em>Mrs. Fletcher\,</em>&nbsp\;which were adapted into critically acclaimed HBO series. His other books include&nbsp\;</span><a href="https://tomperrotta.net/books/bad-haircut/" rel="noopener noreferrer" style="box-sizing: border-box\; color: rgb(255\, 255\, 255)\; text-decoration-line: none\; background-color: transparent\; outline: none !important\;" target="_blank"><span style="color:#000000"><em>Bad Haircut</em></span></a><span style="color:#000000"><em>\,&nbsp\;</em></span><a href="https://tomperrotta.net/books/the-wishbones/" rel="noopener noreferrer" style="box-sizing: border-box\; color: rgb(255\, 255\, 255)\; text-decoration-line: none\; background-color: transparent\; outline: none !important\;" target="_blank"><span style="color:#000000"><em>The Wishbones</em></span></a><span style="color:#000000"><em>\,&nbsp\;</em></span><a href="https://tomperrotta.net/books/joe-college/" rel="noopener noreferrer" style="box-sizing: border-box\; color: rgb(255\, 255\, 255)\; text-decoration-line: none\; background-color: transparent\; outline: none !important\;" target="_blank"><span style="color:#000000"><em>Joe College</em></span></a><span style="color:#000000"><em>\,&nbsp\;</em></span><a href="https://tomperrotta.net/books/the-abstinence-teacher/" rel="noopener noreferrer" style="box-sizing: border-box\; color: rgb(255\, 255\, 255)\; text-decoration-line: none\; background-color: transparent\; outline: none !important\;" target="_blank"><span style="color:#000000"><em>The Abstinence Teacher</em></span></a><span style="color:#000000"><em>\,&nbsp\;</em></span><a href="https://tomperrotta.net/books/nine-inches/" rel="noopener noreferrer" style="box-sizing: border-box\; color: rgb(255\, 255\, 255)\; text-decoration-line: none\; background-color: transparent\; outline: none !important\;" target="_blank"><span style="color:#000000"><em>Nine Inches</em></span></a><span style="color:#000000"><em>\,</em>&nbsp\;and his newest\,&nbsp\;<em>Tracy Flick&nbsp\;Can&rsquo\;t&nbsp\;Win</em>. His work has been translated into a multitude of languages. Perrotta lives outside Boston.</span></p>\n\n<p>&nbsp\;</p>\n\n<p><a href="https://www.penguinrandomhouse.com/authors/26540/richard-russo/" rel="noopener noreferrer" style="box-sizing: border-box\; color: rgb(255\, 255\, 255)\; text-decoration-line: none\; background-color: transparent\; outline: none !important\;" target="_blank"><span style="color:#000000"><strong>Richard Russo</strong></span></a><span style="color:#000000"><span style="background-color:transparent"> is the author of ten acclaimed novels\, including Everybody&rsquo\;s Fool and That Old Cape Magic\; two collections of stories\; and the memoir Elsewhere. In 2002 he received the Pulitzer Prize for Empire Falls\, which\, like Nobody&rsquo\;s Fool\, was adapted into a multiple-award-winning miniseries\; in 2017\, he received France&rsquo\;s Grand Prix de Litt&eacute\;rature Am&eacute\;ricaine. His novel\, Somebody&rsquo\;s Fool\, was released in July 2023.&nbsp\;</span></span></p>\n\n<p>&nbsp\;</p>\n\n<p><span style="color:#000000">Graves&nbsp\;Memorial Library thanks Vinegar Hill Music Theatre for their continued generosity in sponsoring this event.</span>&nbsp\;</p>\n
LOCATION:Vinegar Hill Music Theatre 53 Old Post Road Arundel\, Maine 04046
UID:e.1923.29893
SEQUENCE:3
DTSTAMP:20260421T100057Z
URL:https://chamber.gokennebunks.com/events/details/tom-perrotta-in-conversation-with-richard-russo-a-benefit-for-graves-memorial-library-29893
END:VEVENT

END:VCALENDAR
