BEGIN:VCALENDAR
VERSION:2.0
PRODID:-//ChamberMaster//Event Calendar 2.0//EN
METHOD:PUBLISH
X-PUBLISHED-TTL:P3D
REFRESH-INTERVAL:P3D
CALSCALE:GREGORIAN
BEGIN:VEVENT
DTSTART:20180614T220000Z
DTEND:20180615T020000Z
X-MICROSOFT-CDO-ALLDAYEVENT:FALSE
SUMMARY:Timber to Tides
DESCRIPTION:The Arundel Conservation Trust invites you to a spectacular evening where guests will enjoy hors d' oeuvres\, cocktails\, and live entertainment. Dance the night away with Stolen Mojo! We are excited to be teaming up with The Landing School in Arundel to showcase our rich heritage of shipbuilding. Captain Rich Woodman\, of the Landing School and The Schooner Eleanor\, will also be joining us with a live presentation of our shipbuilding history. There will be both a live and silent auction with donations from our local businesses and supporters. This is sure to be an event that you don't want to miss!
X-ALT-DESC;FMTTYPE=text/html:<span style="background-color:rgb(255\, 255\, 255)\; color:rgb(29\, 33\, 41)\; font-family:helvetica\,arial\,sans-serif\; font-size:14px">The Arundel Conservation Trust invites you to a spectacular evening where guests will enjoy hors d&rsquo\; oeuvres\, cocktails\, and live entertainment. Dance the night away with Stolen Mojo! We are excited to be teaming up with The Landing School in Arundel to showcase our rich heritage of shipbuilding. Captain Rich Woodman\, of the Landing School and The Schooner Eleanor\, will also be joining us with a live presentation of our shipbuilding history. There will be both a live and silent auction with donations from our local businesses and supporters. This is sure to be an event that you don&#39\;t want to miss!</span>
LOCATION:Vinegar Hill Music Theatre 53 Old Post Road Arundel\, ME 04046
UID:e.1923.9843
SEQUENCE:3
DTSTAMP:20260425T143145Z
URL:https://chamber.gokennebunks.com/events/details/timber-to-tides-9843
END:VEVENT

END:VCALENDAR
