BEGIN:VCALENDAR
VERSION:2.0
PRODID:-//ChamberMaster//Event Calendar 2.0//EN
METHOD:PUBLISH
X-PUBLISHED-TTL:P3D
REFRESH-INTERVAL:P3D
CALSCALE:GREGORIAN
BEGIN:VEVENT
DTSTART:20250505T140000Z
DTEND:20250510T020000Z
X-MICROSOFT-CDO-ALLDAYEVENT:FALSE
SUMMARY:Thornton Academy Virtual Online Auction
DESCRIPTION:Join Thornton Academy as we kick-off our 18th Annual Thornton Hybrid Auction\, "Timeless: A Salute to TA throughout the Years" with a week-long virtual online auction running from May 5-May 9. \n\nThanks to the generosity of community supporters\, businesses\, alumni and current TA parents\, this year's virtual auction offers more than 100 items to bid on! There is sure to be something for everyone!\n\nhttp://bit.ly/3YlZqRh \n\nOur auction continues to be Thornton Academy's primary fundraising event financing critical programming\, expanding academic opportunities\, creates equity by filling gaps like free breakfast and lunch for students in-need\, and enhancing the quality of experiences all across campus. The annual auction is a hybrid event\, with a competitive virtual online auction and separate in-person event with both a silent and live auction\, and a raffle with prizes from $1\,000  to $10\,000 taking place on May 17 with doors opening at 5:30. \n\n\n\nThrough the generous support of the TA community\, both near and far\, we hope to make the 2025 event a HUGE success!
X-ALT-DESC;FMTTYPE=text/html:<p><em><strong><span style="font-size:14px"><span style="font-family:arial\,helvetica\,sans-serif"><span style="background-color:transparent\; color:rgb(0\, 0\, 0)">Join Thornton Academy as we kick-off our 18th Annual Thornton Hybrid Auction\, &ldquo\;Timeless: A Salute to TA throughout the Years&quot\; with a week-long virtual online auction running from May 5-May 9.&nbsp\;</span></span></span></strong></em></p>\n\n<p><span style="font-size:14px"><span style="font-family:arial\,helvetica\,sans-serif"><span style="background-color:transparent\; color:rgb(0\, 0\, 0)">Thanks to the generosity of community supporters\, businesses\, alumni and current TA parents\, this year&#39\;s virtual auction offers more than 100 items to bid on! There is sure to be something for everyone!<br />\nhttp://bit.ly/3YlZqRh&nbsp\;</span></span></span></p>\n\n<p><span style="font-size:14px"><span style="font-family:arial\,helvetica\,sans-serif"><span style="background-color:transparent\; color:rgb(0\, 0\, 0)">Our auction continues to be Thornton Academy&rsquo\;s primary fundraising event financing critical programming\, expanding academic opportunities\, creates equity by filling gaps like free breakfast and lunch for students in-need\, and enhancing the quality of experiences all across campus.&nbsp\;</span><span style="background-color:transparent\; color:rgb(0\, 0\, 0)">The annual auction is a hybrid event\, with a competitive virtual online auction and separate in-person event with both a silent and live auction\, and a raffle with prizes from $1\,000&nbsp\; to $10\,000 taking place on May 17 with doors opening at 5:30.&nbsp\;<br />\n<br />\nThrough the generous support of the TA community\, both near and far\, we hope to make the 2025 event a HUGE success!</span></span></span></p>\n
LOCATION:Online: https://thornton2025.ggo.bid/bidding/package-browse
UID:e.1923.34892
SEQUENCE:3
DTSTAMP:20260421T045232Z
URL:https://chamber.gokennebunks.com/events/details/thornton-academy-virtual-online-auction-34892
END:VEVENT

END:VCALENDAR
