BEGIN:VCALENDAR
VERSION:2.0
PRODID:-//ChamberMaster//Event Calendar 2.0//EN
METHOD:PUBLISH
X-PUBLISHED-TTL:P3D
REFRESH-INTERVAL:P3D
CALSCALE:GREGORIAN
BEGIN:VEVENT
DTSTART;VALUE=DATE:20241004
DTEND;VALUE=DATE:20241005
TRANSP:TRANSPARENT
X-MICROSOFT-CDO-ALLDAYEVENT:TRUE
SUMMARY:Thornton Academy Community Event at Brickyard Hollow\, Biddeford
DESCRIPTION:Thornton Academy would like to invite you to be a part of our Community Night at Brickyard Hollow on Tuesday October 8\, 2024.  From 5 p.m. until closing\, Brickyard Hollow will be offering all of their signature appetizers\, pizzas\, salads\, delicious bowls & burgers\, along with popular craft brews\, specialty beverages and fizzy favorites while supporting Thornton Academy's Student Assistance Fund. Week nights are busy\, so let Brickyard Hollow cook for you after a long work day\, or the kid's game\, rehearsal\, practice\, or dance class and know by doing so 5% of sales (dine-in\, takeout\, delivery\, bar and merchandise) will help meet student needs. From necessities like eyeglasses\, sneakers\, and winter coats to food and other resources that students may otherwise go without\, this fund ensures ALL students have what they need to thrive. Representatives from TA will be onsite from 5 to 7 to interact with current families\, faculty & staff\, alumni\, friends and neighbors\, while the community celebration continues until closing!
X-ALT-DESC;FMTTYPE=text/html:Thornton Academy would like to invite you to be a part of our Community Night at Brickyard Hollow on Tuesday October 8\, 2024.&nbsp\; From 5 p.m. until closing\, Brickyard Hollow will be offering all of their signature appetizers\, pizzas\, salads\, delicious bowls &amp\; burgers\, along with popular craft brews\, specialty beverages and fizzy favorites while supporting Thornton Academy&#39\;s Student Assistance Fund. Week nights are busy\, so let Brickyard Hollow cook for you after a long work day\, or the kid&#39\;s game\, rehearsal\, practice\, or dance class and know by doing so 5% of sales (dine-in\, takeout\, delivery\, bar and merchandise) will help meet student needs.&nbsp\;From necessities like eyeglasses\, sneakers\, and winter coats to food and other resources that students may otherwise go without\, this fund ensures ALL students have what they need to thrive. Representatives from TA will be onsite from 5 to 7 to interact with current families\, faculty &amp\; staff\, alumni\, friends and neighbors\, while the community celebration continues until closing!&nbsp\;
LOCATION:Brickyard Hollow 180 Main Street #3 Biddeford\, ME 04005
UID:e.1923.30980
SEQUENCE:3
DTSTAMP:20260421T100041Z
URL:https://chamber.gokennebunks.com/events/details/thornton-academy-community-event-at-brickyard-hollow-biddeford-30980
END:VEVENT

END:VCALENDAR
