BEGIN:VCALENDAR
VERSION:2.0
PRODID:-//ChamberMaster//Event Calendar 2.0//EN
METHOD:PUBLISH
X-PUBLISHED-TTL:P3D
REFRESH-INTERVAL:P3D
CALSCALE:GREGORIAN
BEGIN:VEVENT
DTSTART:20250312T210000Z
DTEND:20250312T230000Z
X-MICROSOFT-CDO-ALLDAYEVENT:FALSE
SUMMARY:Thornton Academy 2025 Academic Expo
DESCRIPTION:Prospective and current students are invited to explore our upper school academics in a fun\, fair-style setting at our Academic Expo. This annual event brings our upper school community together to celebrate the diverse curriculum offered at Thornton Academy.\n\nAt the Academic Expo you can:\n\n\n	Explore Thornton Academy's 200+ class offerings by visiting academic department booths\n	Speak with teachers and learn about the classes you'd like to take\n	Chat with school counselors about scheduling and how to set yourself up for success after graduation\n	Learn about dual-enrollment opportunities with Southern Maine Community College\, University of Maine\, University of New England\, and Biddeford Regional Center of Technology\n\n\nFamilies of prospective students can meet with the Admissions team to learn more about the application process\, financial aid\, and scholarship opportunities\, and most importantly\, how a Thornton Academy education can help you become who you want to be.\n\nNo RSVP is needed for this event.
X-ALT-DESC;FMTTYPE=text/html:<p><span style="color:rgb(63\, 64\, 69)">Prospective and current students are invited to explore our upper school academics in a fun\,&nbsp\;fair-style setting at our Academic Expo. This annual event brings our upper school community together to celebrate the diverse curriculum offered at Thornton Academy.</span></p>\n\n<p><span style="color:rgb(63\, 64\, 69)">At the Academic Expo you can:</span></p>\n\n<ul>\n	<li>Explore Thornton Academy&#39\;s 200+ class offerings by visiting academic department booths</li>\n	<li>Speak with teachers&nbsp\;and learn about the classes you&#39\;d like to take</li>\n	<li>Chat with&nbsp\;school counselors about scheduling&nbsp\;and how to set yourself up for success after graduation</li>\n	<li><span style="color:rgb(63\, 64\, 69)">Learn about dual-enrollment opportunities with&nbsp\;</span><span style="color:rgb(34\, 34\, 34)">Southern Maine Community College\,</span><span style="color:rgb(63\, 64\, 69)">&nbsp\;University of Maine\, University of New England\, and Biddeford Regional Center of Technology</span></li>\n</ul>\n\n<p><span style="color:rgb(63\, 64\, 69)">Families of prospective students can meet with the Admissions team to&nbsp\;learn more about the application process\, financial aid\, and scholarship opportunities\, and most importantly\, how&nbsp\;a Thornton Academy education can help you become who you want to be.</span></p>\n\n<p><span style="color:rgb(63\, 64\, 69)">No RSVP is needed for this event.</span></p>\n
LOCATION:Thornton Academy 438 Main Street Saco\, ME 04072
UID:e.1923.33279
SEQUENCE:3
DTSTAMP:20260420T230145Z
URL:https://chamber.gokennebunks.com/events/details/thornton-academy-academic-expo-33279
END:VEVENT

END:VCALENDAR
