BEGIN:VCALENDAR
VERSION:2.0
PRODID:-//ChamberMaster//Event Calendar 2.0//EN
METHOD:PUBLISH
X-PUBLISHED-TTL:P3D
REFRESH-INTERVAL:P3D
CALSCALE:GREGORIAN
BEGIN:VEVENT
DTSTART:20180720T140000Z
DTEND:20180722T090000Z
X-MICROSOFT-CDO-ALLDAYEVENT:FALSE
SUMMARY:Theodore Roosevelt Days
DESCRIPTION:A Benefit Event For the Narcissus Project!
X-ALT-DESC;FMTTYPE=text/html:<strong>A Benefit Event For&nbsp\;<a href="http://narcissus1912.blogspot.com/" style="box-sizing: border-box\; background-color: transparent\; color: rgb(51\, 122\, 183)\; text-decoration-line: none\;">the Narcissus Project!</a></strong>
LOCATION:Seashore Trolley Museum\, 195 Log Cabin Rd\, Kennebunkport
UID:e.1923.7437
SEQUENCE:3
DTSTAMP:20260425T132706Z
URL:https://chamber.gokennebunks.com/events/details/theodore-roosevelt-days-7437
END:VEVENT

END:VCALENDAR
