BEGIN:VCALENDAR
VERSION:2.0
PRODID:-//ChamberMaster//Event Calendar 2.0//EN
METHOD:PUBLISH
X-PUBLISHED-TTL:P3D
REFRESH-INTERVAL:P3D
CALSCALE:GREGORIAN
BEGIN:VEVENT
DTSTART:20190620T220000Z
DTEND:20190621T000000Z
X-MICROSOFT-CDO-ALLDAYEVENT:FALSE
SUMMARY:The Witchy Wine Hour - Summer Solstice
DESCRIPTION:WITCHY WINE HOUR - SUMMER SOLSTICE! So excited to be holding this Witchy Wine Hour in a historic BARN in Kennebunkport! Fun people. wine & learning about all things healing - from meditation\, to crystals\, to rituals\, to energy work. Come join us for 2 hours of community\, conversation and wine (or tea)! Where: Bass Cove Barn 66 North St Kennebunkport This session: Summer Solstice Ritual to celebrate the longest day of the year! & How To Manifest Your Dreams: Intentions\, Visualization and Turning Your Dreams into Realities. Summer Solstice is the ideal day to act on our intentions! Come sip\, share & create a vision board to take home. $25 at the door. Participants leave with a vision board and a crystal of their choice. Space is limited and sold out last session so call or text 207.205.2194 to reserve a spot!
X-ALT-DESC;FMTTYPE=text/html:WITCHY WINE HOUR - SUMMER SOLSTICE! So excited to be holding this Witchy Wine Hour in a historic BARN in Kennebunkport! Fun people. wine &amp\; learning about all things healing - from meditation\, to crystals\, to rituals\, to energy work. Come join us for 2 hours of community\, conversation and wine (or tea)! Where: Bass Cove Barn 66 North St Kennebunkport This session: Summer Solstice Ritual to celebrate the longest day of the year! &amp\; How To Manifest Your Dreams: Intentions\, Visualization and Turning Your Dreams into Realities. Summer Solstice is the ideal day to act on our intentions! Come sip\, share &amp\; create a vision board to take home. $25 at the door. Participants leave with a vision board and a crystal of their choice. Space is limited and sold out last session so call or text 207.205.2194 to reserve a spot!
LOCATION:Bass Cove Barn 66 North Street Kennebunkport\, ME
UID:e.1923.13158
SEQUENCE:3
DTSTAMP:20260424T194304Z
URL:https://chamber.gokennebunks.com/events/details/the-witchy-wine-hour-summer-solstice-13158
END:VEVENT

END:VCALENDAR
