BEGIN:VCALENDAR
VERSION:2.0
PRODID:-//ChamberMaster//Event Calendar 2.0//EN
METHOD:PUBLISH
X-PUBLISHED-TTL:P3D
REFRESH-INTERVAL:P3D
CALSCALE:GREGORIAN
BEGIN:VEVENT
DTSTART:20200227T230000Z
DTEND:20200228T020000Z
X-MICROSOFT-CDO-ALLDAYEVENT:FALSE
SUMMARY:The Tides Beach Club Test Kitchen
DESCRIPTION:Join Chef Taylor Stanton for an exclusive dinner as he creates & tests recipes for the upcoming season at The Tides Beach Club.  Taking place during Kennebunkport's Paint the Town Red\, Tides' Test Kitchen will begin with a cocktail welcome at 6pm followed by a 5-course dinner at 6:30pm.  Only 20 seats available!\n\n\n\n$60.00++ per person\n\nPurchase Tickets to The Tides Beach Club's Test Kitchen
X-ALT-DESC;FMTTYPE=text/html:Join Chef Taylor Stanton for an exclusive dinner as he creates &amp\; tests recipes for the upcoming season at The Tides Beach Club.&nbsp\; Taking place during Kennebunkport&rsquo\;s Paint the Town Red\, Tides&#39\; Test Kitchen will begin with a cocktail welcome at 6pm followed by a 5-course dinner at 6:30pm.&nbsp\; Only 20 seats available!<br />\n<br />\n$60.00++ per person<br />\n<a href="https://www.eventbrite.com/e/86139739279"><span style="color:#B22222">Purchase Tickets to The Tides Beach Club&#39\;s Test Kitchen</span></a>
LOCATION:The Lobster Bar at The Boathouse 21 Ocean Avenue Kennebunkport\, Maine 04046
UID:e.1923.15600
SEQUENCE:3
DTSTAMP:20260424T101319Z
URL:https://chamber.gokennebunks.com/events/details/the-tides-beach-club-test-kitchen-15600
END:VEVENT

END:VCALENDAR
