BEGIN:VCALENDAR
VERSION:2.0
PRODID:-//ChamberMaster//Event Calendar 2.0//EN
METHOD:PUBLISH
X-PUBLISHED-TTL:P3D
REFRESH-INTERVAL:P3D
CALSCALE:GREGORIAN
BEGIN:VEVENT
DTSTART:20241017T210000Z
DTEND:20241017T223000Z
X-MICROSOFT-CDO-ALLDAYEVENT:FALSE
SUMMARY:The Tides Beach Club Haunted Trolley Tours
DESCRIPTION:Some say that The Tides Beach Club's original owner\, Emma Foss\, is still keeping watch over her life's work   even in death. Guests experience whispers behind them\, only to turn around and find there's no one there. Furniture is moved in the middle of the night. Lights in the attic can frequently be seen but   there are no lights in the attic. Join us at The Tides Beach Club on October 17th or October 24th at 5:00PM where we'll board a trolley and journey into the night to see some of Kennebunkport's most haunted locations. The harshly beautiful coastline of Kennebunkport\, Maine has a long history of storm\, revolution and folklore that seems to lure deceased residents from the ether. Join Maine's mystery maven as she delves into the chilling secrets and ghostly lore of York County on this curious trolley ride. Our tour will begin and end at The Tides Beach Club\, enjoy happy hour cocktails* from 3:00-5:00PM before getting spooked! Please arrive 10-15 minutes early as the trolley will leave promptly at 5:00PM. Parking is available along Goose Rocks Beach (no permit needed)\; parking at The Tides Beach Club is exclusive for hotel guests only. Stick around for dinner* at The Tides Beach Club Restaurant   Make your dining reservations now! *Please note\, food & beverage at The Tides Beach Club Restaurant are not included in the Trolley Tour ticket price.
X-ALT-DESC;FMTTYPE=text/html:Some say that The Tides Beach Club&#39\;s original owner\, Emma Foss\, is still keeping watch over her life&#39\;s work &mdash\; even in death. Guests experience whispers behind them\, only to turn around and find there&#39\;s no one there. Furniture is moved in the middle of the night. Lights in the attic can frequently be seen but &mdash\; there are no lights in the attic. Join us at The Tides Beach Club on October 17th or October 24th at 5:00PM where we&#39\;ll board a trolley and journey into the night to see some of Kennebunkport&#39\;s most haunted locations. The harshly beautiful coastline of Kennebunkport\, Maine has a long history of storm\, revolution and folklore that seems to lure deceased residents from the ether. Join Maine&#39\;s mystery maven as she delves into the chilling secrets and ghostly lore of York County on this curious trolley ride. Our tour will begin and end at The Tides Beach Club\, enjoy happy hour cocktails* from 3:00-5:00PM before getting spooked! Please arrive 10-15 minutes early as the trolley will leave promptly at 5:00PM. Parking is available along Goose Rocks Beach (no permit needed)\; parking at The Tides Beach Club is exclusive for hotel guests only. Stick around for dinner* at The Tides Beach Club Restaurant &ndash\; Make your dining reservations now! *Please note\, food &amp\; beverage at The Tides Beach Club Restaurant are not included in the Trolley Tour ticket price.
LOCATION:The Tides Beach Club 930 Kings Highway Kennebunkport\, ME 04046
UID:e.1923.29908
SEQUENCE:3
DTSTAMP:20260421T100213Z
URL:https://chamber.gokennebunks.com/events/details/the-tides-beach-club-haunted-trolley-tours-29908
END:VEVENT

END:VCALENDAR
