BEGIN:VCALENDAR
VERSION:2.0
PRODID:-//ChamberMaster//Event Calendar 2.0//EN
METHOD:PUBLISH
X-PUBLISHED-TTL:P3D
REFRESH-INTERVAL:P3D
CALSCALE:GREGORIAN
BEGIN:VEVENT
DTSTART:20190810T000000Z
DTEND:20190810T023000Z
X-MICROSOFT-CDO-ALLDAYEVENT:FALSE
SUMMARY:The THE BAND Band
DESCRIPTION:The THE BAND Band returns to Vinegar Hill Music Theatre with a special show celebrating the 50th Anniversary of The Band's iconic self titled 1969 release\, known as "The Brown Album." The show will feature the entire track list\, which includes "Across the Great Divide"\, "Rag Mama Rag"\, "Up on Cripple Creek" and so many other favorites. Returning for their third visit with us\, for those of you who haven't seen this group\, they are a must-see. If you like the music of The Band\, you'll love The THE BAND Band. As the most popular and exciting tribute to The Band on the national touring circuit\, The THE BAND Band brings the music of The Band alive with authentic\, true-to-form renditions of these well-loved songs. They are renowned for delivering with the passion and commitment for which The Band was legendary. "Sadly we'll never see or hear The Band perform live again\, but if you want a close second and want to be transformed by the magic and spirit of their music...The THE BAND Band delivers  BIG TIME!" - Rex Fowler\, folk-rock duo Aztec Two-Step.
X-ALT-DESC;FMTTYPE=text/html:The THE BAND Band returns to Vinegar Hill Music Theatre with a special show celebrating the 50th Anniversary of The Band&rsquo\;s iconic self titled 1969 release\, known as &ldquo\;The Brown Album.&rdquo\; The show will feature the entire track list\, which includes &ldquo\;Across the Great Divide&rdquo\;\, &ldquo\;Rag Mama Rag&rdquo\;\, &ldquo\;Up on Cripple Creek&rdquo\; and so many other favorites. Returning for their third visit with us\, for those of you who haven&rsquo\;t seen this group\, they are a must-see. If you like the music of The Band\, you&#39\;ll love The THE BAND Band. As the most popular and exciting tribute to The Band on the national touring circuit\, The THE BAND Band brings the music of The Band alive with authentic\, true-to-form renditions of these well-loved songs. They are renowned for delivering with the passion and commitment for which The Band was legendary. &quot\;Sadly we&#39\;ll never see or hear The Band perform live again\, but if you want a close second and want to be transformed by the magic and spirit of their music...The THE BAND Band delivers&hellip\; BIG TIME!&quot\; - Rex Fowler\, folk-rock duo Aztec Two-Step.
LOCATION:Vinegar Hill Music Theatre 53 Old Post Rd Arundel\, ME 04046
UID:e.1923.11547
SEQUENCE:3
DTSTAMP:20260424T165733Z
URL:https://chamber.gokennebunks.com/events/details/the-the-band-band-08-09-2019-11547
END:VEVENT

END:VCALENDAR
