BEGIN:VCALENDAR
VERSION:2.0
PRODID:-//ChamberMaster//Event Calendar 2.0//EN
METHOD:PUBLISH
X-PUBLISHED-TTL:P3D
REFRESH-INTERVAL:P3D
CALSCALE:GREGORIAN
BEGIN:VEVENT
DTSTART:20250503T000000Z
DTEND:20250503T020000Z
X-MICROSOFT-CDO-ALLDAYEVENT:FALSE
SUMMARY:The THE BAND Band
DESCRIPTION:Reserved Seated: $45 - $55 Advance | $55 - $65 Door\n\nDoors 7pm | Show 8pm\nCome early and enjoy food and drinks in our outdoor garden starting at 6PM!\n\nThe night's food truck is:  Barry Larry's\n\nThe THE BAND Band is the only nationally touring group dedicated exclusively to music of The Band\, bringing it to life with authentic\, true-to-form renditions of their extraordinary repertoire. From hit songs like "The Weight\," "Up on Cripple Creek\," and "The Night They Drove Old Dixie Down\," and deep cuts from their classic albums\, to the historic collaborations with Bob Dylan\, The THE BAND Band delivers with the passion and commitment for which The Band was renowned. Experience the power and excitement of The Band's legendary concerts\, as famously documented in the Martin Scorsese film\, The Last Waltz.
X-ALT-DESC;FMTTYPE=text/html:<h4><strong>Reserved Seated: $45 - $55 Advance | $55 - $65 Door<br />\nDoors 7pm | Show 8pm</strong></h4>\nCome early and enjoy food and drinks in our outdoor garden starting at 6PM!<br />\nThe night&rsquo\;s food truck is:&nbsp\;&nbsp\;<a href="https://barrylarry.com/" style="color: rgb(195\, 89\, 51)\; background-color: transparent\; box-sizing: border-box\; text-decoration-line: none\; box-shadow: none\;">Barry Larry&rsquo\;s</a>\n\n<p><a href="https://thethebandband.com/" rel="noopener noreferrer" style="box-sizing: border-box\; color: rgb(255\, 255\, 255)\; background-color: transparent\; outline: none !important\;" target="_blank"><span style="color:#000000"><strong>The THE BAND Band</strong></span></a><span style="color:#000000"><strong> </strong>is the only nationally touring group dedicated exclusively to music of The Band\, bringing it to life with authentic\, true-to-form renditions of their extraordinary repertoire. From hit songs like &ldquo\;The Weight\,&rdquo\; &ldquo\;Up on Cripple Creek\,&rdquo\; and &ldquo\;The Night They Drove Old Dixie Down\,&rdquo\; and deep cuts from their classic albums\, to the historic collaborations with Bob Dylan\, The THE BAND Band delivers with the passion and commitment for which The Band was renowned. Experience the power and excitement of The Band&rsquo\;s legendary concerts\, as famously documented in the Martin Scorsese film\, The Last Waltz.</span></p>\n
LOCATION:Vinegar Hill Music Theatre 53 Old Post Road Arundel\, Maine 04046
UID:e.1923.34206
SEQUENCE:3
DTSTAMP:20260421T045913Z
URL:https://chamber.gokennebunks.com/events/details/the-the-band-band-05-02-2025-34206
END:VEVENT

END:VCALENDAR
