BEGIN:VCALENDAR
VERSION:2.0
PRODID:-//ChamberMaster//Event Calendar 2.0//EN
METHOD:PUBLISH
X-PUBLISHED-TTL:P3D
REFRESH-INTERVAL:P3D
CALSCALE:GREGORIAN
BEGIN:VEVENT
DTSTART:20230619T000000Z
DTEND:20230619T020000Z
X-MICROSOFT-CDO-ALLDAYEVENT:FALSE
SUMMARY:The Texas Tenors Celebrate Broadway & America!
DESCRIPTION:From the iconic music of Broadway to songs that celebrate our nation\, The Texas Tenors present a collection of rousing show-stoppers from the New York stage to americana classics!\n\nJoin America's Favorite Tenors JC\, Marcus and John for a night of entertainment that will have you singing along to all your favorites from Broadway like Les Miserables\, The Sound of Music and Phantom of the Opera to country\, pop and classic rock hits!\n\nDon't miss this chance to see Texas Country Music Hall of Fame and Billboard #1 Recording artists The Texas Tenors up close and personal this Father's Day as they celebrate Broadway and the USA!
X-ALT-DESC;FMTTYPE=text/html:<div>From the iconic music of Broadway to songs that celebrate our nation\, The Texas Tenors present a collection of rousing show-stoppers from the New York stage to americana classics!</div>\n\n<div>Join America&#39\;s Favorite Tenors JC\, Marcus and John for a night of entertainment that will have you singing along to all your favorites from Broadway like Les Miserables\, The Sound of Music and Phantom of the Opera to country\, pop and classic rock hits!</div>\n\n<div>Don&#39\;t miss this chance to see Texas Country Music Hall of Fame and Billboard #1 Recording artists The Texas Tenors up close and personal this Father&#39\;s Day as they celebrate Broadway and the USA!</div>\n
LOCATION:Vinegar Hill Music Theatre 53 Old Post Road\, Arundel\, ME\, United States\, Maine
UID:e.1923.18395
SEQUENCE:3
DTSTAMP:20260422T075434Z
URL:https://chamber.gokennebunks.com/events/details/the-texas-tenors-celebrate-broadway-america-06-18-2023-18395
END:VEVENT

END:VCALENDAR
