BEGIN:VCALENDAR
VERSION:2.0
PRODID:-//ChamberMaster//Event Calendar 2.0//EN
METHOD:PUBLISH
X-PUBLISHED-TTL:P3D
REFRESH-INTERVAL:P3D
CALSCALE:GREGORIAN
BEGIN:VEVENT
DTSTART:20180707T000000Z
DTEND:20180707T023000Z
X-MICROSOFT-CDO-ALLDAYEVENT:FALSE
SUMMARY:The Subdudes
DESCRIPTION:Over the course of 25 years and ten albums\, the Subdudes have quietly become one of America's national music treasures. The New Orleans-formed group is a living encapsulation of American music\, a vibrant cauldron of sounds that stirs together meaty grooves and jazzy dynamics\, soulful R&B swagger\, easy vocal harmonies\, cheeky rock 'n' roll attitude and folky social consciousness.
X-ALT-DESC;FMTTYPE=text/html:Over the course of 25 years and ten albums\, the Subdudes have quietly become one of America&rsquo\;s national music treasures. The New Orleans-formed group is a living encapsulation of American music\, a vibrant cauldron of sounds that stirs together meaty grooves and jazzy dynamics\, soulful R&amp\;B swagger\, easy vocal harmonies\, cheeky rock &lsquo\;n&rsquo\; roll attitude and folky social consciousness.
LOCATION:Vinegar Hill Music Theatre 53 Old Post Rd. Arundel\, ME 04046
UID:e.1923.9811
SEQUENCE:3
DTSTAMP:20260425T132549Z
URL:https://chamber.gokennebunks.com/events/details/the-subdudes-9811
END:VEVENT

END:VCALENDAR
