BEGIN:VCALENDAR
VERSION:2.0
PRODID:-//ChamberMaster//Event Calendar 2.0//EN
METHOD:PUBLISH
X-PUBLISHED-TTL:P3D
REFRESH-INTERVAL:P3D
CALSCALE:GREGORIAN
BEGIN:VEVENT
DTSTART:20190819T000000Z
DTEND:20190819T020000Z
X-MICROSOFT-CDO-ALLDAYEVENT:FALSE
SUMMARY:The Subdudes
DESCRIPTION:Over the course of 25 years and ten albums\, the Subdudes have quietly become one of America's national music treasures. The New Orleans-formed group is a living encapsulation of American music\, a vibrant cauldron of sounds that stirs together meaty grooves and jazzy dynamics\, soulful R&B swagger\, easy vocal harmonies\, cheeky rock 'n' roll attitude and folky social consciousness   not to mention some of the sharpest musicianship and ensemble playing you'll ever hear from any five musicians. Led by singer/guitarist Tommy Malone and accordionist\, John Magnie\, The Subdudes draw most of their inspiration from the sounds of their native New Orleans\, blending blues\, gospel\, funk\, and R&B with their own harmony vocals\; their sound is also notable for the band's substitution of a tambourine player\, Steve Amed e\, for a drummer. Tim Cook rounds out the band on bass.
X-ALT-DESC;FMTTYPE=text/html:Over the course of 25 years and ten albums\, the Subdudes have quietly become one of America&rsquo\;s national music treasures. The New Orleans-formed group is a living encapsulation of American music\, a vibrant cauldron of sounds that stirs together meaty grooves and jazzy dynamics\, soulful R&amp\;B swagger\, easy vocal harmonies\, cheeky rock &lsquo\;n&rsquo\; roll attitude and folky social consciousness &mdash\; not to mention some of the sharpest musicianship and ensemble playing you&rsquo\;ll ever hear from any five musicians. Led by singer/guitarist Tommy Malone and accordionist\, John Magnie\, The Subdudes draw most of their inspiration from the sounds of their native New Orleans\, blending blues\, gospel\, funk\, and R&amp\;B with their own harmony vocals\; their sound is also notable for the band&rsquo\;s substitution of a tambourine player\, Steve Amed&eacute\;e\, for a drummer. Tim Cook rounds out the band on bass.
LOCATION:Vinegar Hill Music Theatre 53 Old Post Rd. Arundel\, ME 04046
UID:e.1923.13071
SEQUENCE:3
DTSTAMP:20260424T165547Z
URL:https://chamber.gokennebunks.com/events/details/the-subdudes-08-18-2019-13071
END:VEVENT

END:VCALENDAR
