BEGIN:VCALENDAR
VERSION:2.0
PRODID:-//ChamberMaster//Event Calendar 2.0//EN
METHOD:PUBLISH
X-PUBLISHED-TTL:P3D
REFRESH-INTERVAL:P3D
CALSCALE:GREGORIAN
BEGIN:VEVENT
DTSTART:20180715T223000Z
DTEND:20180716T003000Z
X-MICROSOFT-CDO-ALLDAYEVENT:FALSE
SUMMARY:The Stray Cat\, Lee Rocker
DESCRIPTION:Lee Rocker has been consistently touring\, recording and performing around the globe since 1980 and has cultivated a fanatically loyal following of rockers\, rebels and all types of music lovers. He is known for making his upright double bass appear as if it were a lightweight instrument as he spins\, throws it in the air\, catches and plays it on stages throughout the world.
X-ALT-DESC;FMTTYPE=text/html:Lee Rocker has been consistently touring\, recording and performing around the globe since 1980 and has cultivated a fanatically loyal following of rockers\, rebels and all types of music lovers. He is known for making his upright double bass appear as if it were a lightweight instrument as he spins\, throws it in the air\, catches and plays it on stages throughout the world.
LOCATION:Vinegar Hill Music Theatre 53 Old Post Rd. Arundel\, ME 04046
UID:e.1923.7169
SEQUENCE:3
DTSTAMP:20260425T132716Z
URL:https://chamber.gokennebunks.com/events/details/the-stray-cat-lee-rocker-7169
END:VEVENT

END:VCALENDAR
