BEGIN:VCALENDAR
VERSION:2.0
PRODID:-//ChamberMaster//Event Calendar 2.0//EN
METHOD:PUBLISH
X-PUBLISHED-TTL:P3D
REFRESH-INTERVAL:P3D
CALSCALE:GREGORIAN
BEGIN:VEVENT
DTSTART:20260124T230000Z
DTEND:20260125T013000Z
X-MICROSOFT-CDO-ALLDAYEVENT:FALSE
SUMMARY:The Saturday Glow Up at Sovereign Earth
DESCRIPTION:Let's be honest: Most days\, we're lucky if we get a shower\, let alone a "look." I'm an artist who spends my days covered in mineral dust and botanical oils\, so I get it. But I also know how good it feels to take a seat\, have someone else take care of you for a minute\, and remember that you're still in there.\n\nI'm opening up the studio for a few Saturday nights to give 8 women a chance to hang out\, have a drink\, and get a professional makeover without any of the pretension.\n\nWhat we're doing:\n\n\n	\n	The Chair: You'll take a turn in my chair for a personalized signature makeover. I'll use my expert eye to find the exact shades that work for your skin tone\, showing you how to highlight your natural beauty so you look like you actually slept 8 hours.\n	\n	\n	The Beauty Bar: All my handmade blushes\, bronzers\, and lip products are out. Play with the colors\, see how they feel on your skin\, and find what actually works for you.\n	\n	\n	The Vibe: I'll have some good wine and snacks ready. It's a low-pressure\, down-to-earth evening with other women who probably need a night out as much as you do.\n	\n	\n	The Photo: After your makeover\, I'll take a great photo of you against my white velvet backdrop. No filters just you looking like the best version of yourself.\n	\n\n\nThe Details:\n\n\n	\n	When: Saturday Night\, January 24\, 2026 6:00 PM   8:30 PM\n\n	(Check our events page for more dates!)\n	\n	\n	Price: $100 (This covers the night and includes a $25 gift certificate to use toward any products you want to take home).\n	\n\n\nThere are only 8 chairs. Grab a friend and come hang out.
X-ALT-DESC;FMTTYPE=text/html:<p><span style="background-color:transparent\; color:rgb(0\, 0\, 0)\; font-family:arial\,sans-serif\; font-size:11pt">&nbsp\;Let&rsquo\;s be honest: Most days\, we&rsquo\;re lucky if we get a shower\, let alone a &quot\;look.&quot\; I&rsquo\;m an artist who spends my days covered in mineral dust and botanical oils\, so I get it. But I also know how good it feels to take a seat\, have someone else take care of you for a minute\, and remember that you&rsquo\;re still in there.</span></p>\n\n<p><span style="background-color:transparent\; color:rgb(0\, 0\, 0)\; font-family:arial\,sans-serif\; font-size:11pt">I&rsquo\;m opening up the studio for a few Saturday nights to give 8 women a chance to hang out\, have a drink\, and get a professional makeover without any of the pretension.</span></p>\n\n<p><strong>What we&rsquo\;re doing:</strong></p>\n\n<ul>\n	<li>\n	<p><strong>The Chair:</strong><span style="background-color:transparent\; font-size:11pt"> You&rsquo\;ll take a turn in my chair for a personalized signature makeover. I&rsquo\;ll use my expert eye to find the exact shades that work for your skin tone\, showing you how to highlight your natural beauty so you look like you actually slept 8 hours.</span></p>\n	</li>\n	<li>\n	<p><strong>The Beauty Bar:</strong><span style="background-color:transparent\; font-size:11pt"> All my handmade blushes\, bronzers\, and lip products are out. Play with the colors\, see how they feel on your skin\, and find what actually works for you.</span></p>\n	</li>\n	<li>\n	<p><strong>The Vibe:</strong><span style="background-color:transparent\; font-size:11pt"> I&rsquo\;ll have some good wine and snacks ready. It&rsquo\;s a low-pressure\, down-to-earth evening with other women who probably need a night out as much as you do.</span></p>\n	</li>\n	<li>\n	<p><strong>The Photo:</strong><span style="background-color:transparent\; font-size:11pt"> After your makeover\, I&rsquo\;ll take a great photo of you against my white velvet backdrop. No filters&mdash\;just you looking like the best version of yourself.</span></p>\n	</li>\n</ul>\n\n<p><strong>The Details:</strong></p>\n\n<ul>\n	<li>\n	<p><strong>When:</strong><span style="background-color:transparent\; font-size:11pt"> Saturday Night\, January 24\, 2026 6:00 PM &ndash\; 8:30 PM<br />\n	(Check our events page for more dates!)</span></p>\n	</li>\n	<li>\n	<p><strong>Price:</strong><span style="background-color:transparent\; font-size:11pt"> $100 (This covers the night and includes a </span><strong>$25 gift certificate</strong><span style="background-color:transparent\; font-size:11pt"> to use toward any products you want to take home).</span></p>\n	</li>\n</ul>\n\n<p><strong>There are only 8 chairs. Grab a friend and come hang out.</strong></p>\n\n<div>&nbsp\;</div>\n
LOCATION:Sovereign Earth Lab & Studio- 58 Portland Road #18A\, Kennebunk\, ME
UID:e.1923.38357
SEQUENCE:3
DTSTAMP:20260421T180643Z
URL:https://chamber.gokennebunks.com/events/details/the-saturday-glow-up-at-sovereign-earth-38357
END:VEVENT

END:VCALENDAR
