BEGIN:VCALENDAR
VERSION:2.0
PRODID:-//ChamberMaster//Event Calendar 2.0//EN
METHOD:PUBLISH
X-PUBLISHED-TTL:P3D
REFRESH-INTERVAL:P3D
CALSCALE:GREGORIAN
BEGIN:VEVENT
DTSTART:20180823T213000Z
DTEND:20180823T230000Z
X-MICROSOFT-CDO-ALLDAYEVENT:FALSE
SUMMARY:The Pine Tree State in France: Maine's 103rd Infantry Regiment in the Great War
DESCRIPTION:Join Captain Jonathan Bratten\, command historian for the Maine National Guard\, as he shares stories of the 103rd Infantry and discusses how the actions of its soldiers changed the course of World War 1.\n\n\n\nIn 1917\, 2\,002 Mainers left their homes and families to 'make the world safe for democracy.' Their travels took them directly into the heart of the Great War\, where they proved that the best of the German Army were no match for the boys from Maine. During his talk\, Captain Jonathan Bratten will share the stories of the 103rd Infanrty and discuss how the actions of its soldiers changed the course of World War 1.
X-ALT-DESC;FMTTYPE=text/html:Join Captain Jonathan Bratten\, command historian for the Maine National Guard\, as he shares stories of the 103rd Infantry and discusses how the actions of its soldiers changed the course of World War 1.<br />\n<br />\nIn 1917\, 2\,002 Mainers left their homes and families to &#39\;make the world safe for democracy.&#39\; Their travels took them directly into the heart of the Great War\, where they proved that the best of the German Army were no match for the boys from Maine. During his talk\, Captain Jonathan Bratten will share the stories of the 103rd Infanrty and discuss how the actions of its soldiers changed the course of World War 1.&nbsp\;
LOCATION:Brick Store Museum 117 Main Street Kennebunk\, Maine 04043
UID:e.1923.11375
SEQUENCE:3
DTSTAMP:20260425T121315Z
URL:https://chamber.gokennebunks.com/events/details/the-pine-tree-state-in-france-maine-s-103rd-infantry-regiment-in-the-great-war-11375
END:VEVENT

END:VCALENDAR
