BEGIN:VCALENDAR
VERSION:2.0
PRODID:-//ChamberMaster//Event Calendar 2.0//EN
METHOD:PUBLISH
X-PUBLISHED-TTL:P3D
REFRESH-INTERVAL:P3D
CALSCALE:GREGORIAN
BEGIN:VEVENT
DTSTART:20230719T230000Z
DTEND:20230824T000000Z
X-MICROSOFT-CDO-ALLDAYEVENT:FALSE
SUMMARY:The New School Open House/Online Information Session
DESCRIPTION:Curious about The New School? Join us for Virtual Information Sessions at 7:00 PM July 19? July 26? August 9? August 23 The New School is a progressive\, independent high school providing a unique\, student-driven\, democratic learning experience for youth from Southern Maine and New Hampshire. TNS is still accepting applications for the fall! RSVP via email thenewschool@tnsk.org. Event link will be sent prior to the session.
X-ALT-DESC;FMTTYPE=text/html:Curious about The New School?&nbsp\;Join us for Virtual Information Sessions at 7:00 PM July 19? July 26? August 9? August 23 The New School is a progressive\, independent high school providing a unique\, student-driven\, democratic learning experience for youth from Southern Maine and New Hampshire. TNS is still accepting applications for the fall! RSVP via email thenewschool@tnsk.org. Event link will be sent prior to the session.
LOCATION:Online. Link to be sent prior to the event.
UID:e.1923.21943
SEQUENCE:3
DTSTAMP:20260422T034003Z
URL:https://chamber.gokennebunks.com/events/details/the-new-school-open-house-online-information-session-21943
END:VEVENT

END:VCALENDAR
