BEGIN:VCALENDAR
VERSION:2.0
PRODID:-//ChamberMaster//Event Calendar 2.0//EN
METHOD:PUBLISH
X-PUBLISHED-TTL:P3D
REFRESH-INTERVAL:P3D
CALSCALE:GREGORIAN
BEGIN:VEVENT
DTSTART:20240831T230000Z
DTEND:20240901T003000Z
X-MICROSOFT-CDO-ALLDAYEVENT:FALSE
SUMMARY:The Music of Taylor Swift
DESCRIPTION:Join Biddeford City Theater and the Listeso Music Group for a night of Taylor Swift as you've never experienced before. Enjoy the music of Taylor Swift as performed by a string quartet in Biddeford's historic City Theater. The night's program includes: ? "Love Story" ? "Cardigan" ? "Blank Space" ? "Enchanted" ? "Anti-Hero" ? "Lavender Haze" ? "Fortnight (ft. Post Malone)" ? "All Too Well" ? "We Are Never Ever Getting Back Together" ? "Cruel Summer" ? "But Daddy I Love Him" ? "You Belong With Me" ? "Shake It Off"
X-ALT-DESC;FMTTYPE=text/html:Join Biddeford City Theater and the Listeso Music Group for a night of Taylor Swift as you&rsquo\;ve never experienced before. Enjoy the music of Taylor Swift as performed by a string quartet in Biddeford&rsquo\;s historic City Theater. The night&rsquo\;s program includes: ? &ldquo\;Love Story&rdquo\; ? &ldquo\;Cardigan&rdquo\; ? &ldquo\;Blank Space&rdquo\; ? &ldquo\;Enchanted&rdquo\; ? &ldquo\;Anti-Hero&rdquo\; ? &ldquo\;Lavender Haze&rdquo\; ? &ldquo\;Fortnight (ft. Post Malone)&rdquo\; ? &ldquo\;All Too Well&rdquo\; ? &ldquo\;We Are Never Ever Getting Back Together&rdquo\; ? &ldquo\;Cruel Summer&rdquo\; ? &ldquo\;But Daddy I Love Him&rdquo\; ? &ldquo\;You Belong With Me&rdquo\; ? &ldquo\;Shake It Off&rdquo\;
LOCATION:Biddeford City Theater
UID:e.1923.25435
SEQUENCE:3
DTSTAMP:20260421T111715Z
URL:https://chamber.gokennebunks.com/events/details/the-music-of-taylor-swift-25435
END:VEVENT

END:VCALENDAR
