BEGIN:VCALENDAR
VERSION:2.0
PRODID:-//ChamberMaster//Event Calendar 2.0//EN
METHOD:PUBLISH
X-PUBLISHED-TTL:P3D
REFRESH-INTERVAL:P3D
CALSCALE:GREGORIAN
BEGIN:VEVENT
DTSTART:20240310T000000Z
DTEND:20240310T020000Z
X-MICROSOFT-CDO-ALLDAYEVENT:FALSE
SUMMARY:The Mindreader Mentalist Kent Axell
DESCRIPTION:Prepare to be awestruck as master magician and mentalist Kent Axell returns to his Maine roots from a sensational Las Vegas residency\, gracing the SPAC stage for the first time. Axell's riveting fusion of magic\, psychological illusions\, showmanship\, and wit creates a spellbinding tapestry that captivates audiences across generations. Hailing from Manchester\, Maine\, Axell is acclaimed as one of the foremost mentalists and magicians in the country\, a reputation solidified by appearances on National Geographic's "Brain Games" and the CW's "Masters of Illusion." Behold astonishing feats of mind reading\, entrancing sleight of hand\, and a performance that will leave you both dumbfounded and amazed.
X-ALT-DESC;FMTTYPE=text/html:<p><span style="background-color:transparent\; color:rgb(0\, 0\, 0)\; font-family:trebuchet ms\,sans-serif\; font-size:11pt">Prepare to be awestruck as master magician and mentalist Kent Axell returns to his Maine roots from a sensational Las Vegas residency\, gracing the SPAC stage for the first time. Axell&rsquo\;s riveting fusion of magic\, psychological illusions\, showmanship\, and wit creates a spellbinding tapestry that captivates audiences across generations. Hailing from Manchester\, Maine\, Axell is acclaimed as one of the foremost mentalists and magicians in the country\, a reputation solidified by appearances on National Geographic&rsquo\;s &ldquo\;Brain Games&rdquo\; and the CW&rsquo\;s &ldquo\;Masters of Illusion.&rdquo\; Behold astonishing feats of mind reading\, entrancing sleight of hand\, and a performance that will leave you both dumbfounded and amazed.&nbsp\;</span></p>\n
LOCATION:Sanford Performing Arts Center\, 100 Alumni Blvd.\, Sanford
UID:e.1923.22531
SEQUENCE:3
DTSTAMP:20260421T180440Z
URL:https://chamber.gokennebunks.com/events/details/the-mindreader-mentalist-kent-axell-22531
END:VEVENT

END:VCALENDAR
